Workbook

Sheet Input
C2: FCC template for NFCSS Scenario
C3: Please copy the Material Flow Result and paste to the Results_MF. Do not chage the sheet name.
C5: Input
C9: discount rate: d % | D9: 4
B10: NFCSS mass flows | C10: Fuel cycle steps | D10: Unit | E10: cost | F10: Escalationn rate, %
B11: NatU(tHM) | C11: 1. Natural U cost (U3O8 cost) | D11: $/kgU | E11: 0 | F11: 0
B12: ConversionUF6(tHM) | C12: 2. Conversion cost (U3O8 to UO2) | D12: $/kgHM | E12: 0 | F12: 0
B13: ConversionUO2(tHM) | C13: 2. Conversion cost ( UO2) | D13: $/kgHM | E13: 0 | F13: 0
B14: SWU(MTSWU) | C14: 3. Enrichment cost (from natural U to enriched U) | D14: $/kgSWU | E14: 0 | F14: 0
B15: FF_1(tHM) | C15: 4. Fuel 1 fabrication cost | D15: $/kgHM | E15: 0 | F15: 0
B16: FF_2(tHM) | C16: 5. Fuel 2 fabrication cost | D16: $/kgHM | E16: 0 | F16: 0
B17: SFS1(tHM) | C17: 6. Disposal of spent fuel 1 for open cycle (+transport+storage) | D17: $/kgHM | E17: 0 | F17: 0
B18: SFS2(tHM) | C18: 7. Disposal of spent fuel 1 for open cycle (+transport+storage) | D18: $/kgHM | E18: 0 | F18: 0
B19: SFRSCPSto1(tHM) | C19: 8. Cooling SF1 cost | D19: $/kgHM/y | E19: 0 | F19: 0
B20: SFRSCPSto2(tHM) | C20: 9. Cooling SF2 cost | D20: $/kgHM/y | E20: 0 | F20: 0
B21: SFRSRPSto1(tHM) | C21: 10. Repro storage SF1 cost | D21: $/kgHM/y | E21: 0 | F21: 0
B22: SFRSRPSto2(tHM) | C22: 11. Repro storage SF2 cost | D22: $/kgHM/y | E22: 0 | F22: 0
... B27: RepFPStock(t) | C27: 16. HLW disposal cost | D27: $/kgHM | E27: 0 | F27: 0

Sheet Output
C3: Output
D6: Discounted fuel cost M$ | E6: Levelised generation fuel cost (mills/kWh)
C7: Total fuel cycle | D7: =D19 -> 0 | E7: =E19 -> 0
D9: Fuel cycle component costs
C10: Fuel cycle steps | D10: Discounted fuel costs, M$ | E10: Levelised generation fuel costs (mills/kWh)
C11: Natural U | D11: =Intermidiate_result!DX5/1000 -> 0 | E11: =Intermidiate_result!DY5 -> 0
C12: Conversion | D12: =Intermidiate_result!DX6/1000 -> 0 | E12: =Intermidiate_result!DY6 -> 0
C13: Enrichment | D13: =Intermidiate_result!DX7/1000 -> 0 | E13: =Intermidiate_result!DY7 -> 0
C14: Fuel fabrication | D14: =Intermidiate_result!DX8/1000 -> 0 | E14: =Intermidiate_result!DY8 -> 0
C15: Reprocessing | D15: =Intermidiate_result!DX9/1000 -> 0 | E15: =Intermidiate_result!DY9 -> 0
C16: Spent fuel storage | D16: =Intermidiate_result!DX10/1000 -> 0 | E16: =Intermidiate_result!DY10 -> 0
C17: Pu | D17: =Intermidiate_result!DX11/1000 -> 0 | E17: =Intermidiate_result!DY11 -> 0
C18: Disposal | D18: =Intermidiate_result!DX12/1000 -> 0 | E18: =Intermidiate_result!DY12 -> 0
C19: Total fuel cycle | D19: =Intermidiate_result!DX13/1000 -> 0 | E19: =Intermidiate_result!DY13 -> 0
C21: Discounted cummulative electricity, GWh
D22: =Intermidiate_result!DX14 -> 786184.88

Sheet Intermidiate_result
A1: NFCSS Results for Reactor Type:
E2: Front End | AO2: Back End | CN2: Nuclide Groups
A3: base year | B3: dr | E3: U cost | I3: Con cost UF6 | M3: Con cost UO2 | W3: SWU cost | AC3: Fuel 1 cost | AG3: Fuel 2 cost | AR3: disposal f1 cost | AV3: disposal f2 cost | BJ3: cool f1 cost | BN3: cool f2 cost | BV3: repr stor f1 cost | BZ3: repr stor f2 cost | CE3: repro f1 | CI3: repro f2 | CN3: dep u stor cost | DA3: Pu price | DD3: Pu stor | DL3: HLW disposal cost
A4: =Results_MF!A4 -> 2025 | B4: =Input!D9/100 -> 0.04 | F4: =Input!E11 -> 0 | G4: =Input!F11/100 -> 0 | J4: =Input!E12 -> 0 | K4: =Input!F12/100 -> 0 | N4: =Input!E13 -> 0 | O4: =Input!F13/100 -> 0 | X4: =Input!E14 -> 0 | Y4: =Input!F14/100 -> 0 | AD4: =Input!E15 -> 0 | AE4: =Input!F15/100 -> 0 | AH4: =Input!E16 -> 0 | AI4: =Input!F16/100 -> 0 | AS4: =Input!E17 -> 0 | AT4: =Input!F17/100 -> 0 | AW4: =Input!E18 -> 0 | AX4: =Input!F18/100 -> 0 | BK4: =Input!E19 -> 0 | BL4: =Input!F19/100 -> 0 | BO4: =Input!E20 -> 0 | BP4: =Input!F20/100 -> 0 | BW4: =Input!E21 -> 0 | BX4: =Input!F21/100 -> 0 | CA4: =Input!E22 -> 0 | CB4: =Input!F22/100 -> 0 | CF4: =Input!E23 -> 0 | CG4: =Input!F23/100 -> 0 | CJ4: =Input!E24 -> 0 | CK4: =Input!F24/100 -> 0 | DA4: =Input!E25 -> 0 | DB4: =Input!F25/100 -> 0 | DD4: =Input!E26 -> 0 | DE4: =Input!F26/100 -> 0 | DL4: =Input!E27 -> 0 | DM4: =Input!F27/100 -> 0 | DX4: Discounted fuel cost | DY4: Levelised generation fuel costs
A5: Year | B5: discount factor | C5: Electricity(GWh) | E5: NatU(tHM) | F5: cost | G5: esc | H5: disc | I5: ConversionUF6(tHM) | J5: cost | K5: esc | L5: disc | M5: ConversionUO2(tHM) | N5: cost | O5: esc | P5: disc | Q5: ConversionUMet(tHM) | U5: ConversionTot(tHM) | V5: ENR_In(tHM) | W5: SWU(MTSWU) | X5: cost | Y5: esc | Z5: disc | AA5: Enr_DepU(tHM) | AB5: ENR_U(tHM) | AC5: FF_1(tHM) | AD5: cost | AE5: esc | AF5: disc | AG5: FF_2(tHM) | AH5: cost | AI5: esc | AJ5: disc | AK5: TotalFF(tHM) | AL5: FuelInCore(tHM) | AM5: NatUSaveMOX(tHM) | AN5: NatUSaveRepU(tHM) | AO5: SFD1(tHM) | AP5: SFD2(tHM) | AQ5: SFD(tHM) | AR5: SFS1(tHM) | AS5: cost | AT5: esc | AU5: disc | AV5: SFS2(tHM) | AW5: cost | AX5: esc | AY5: disc | AZ5: SFS(tHM) | BA5: SFSStock1(tHM) | BB5: SFSStock2(tHM) | BC5: SFSStock(tHM) | BD5: SFRS1(tHM) | BE5: SFRS2(tHM) | BF5: SFRS(tHM) | BG5: SFRSCP1(tHM) | BH5: SFRSCP2(tHM) | BI5: SFRSCP(tHM) | BJ5: SFRSCPSto1(tHM) | BK5: cost | BL5: esc | BM5: disc | BN5: SFRSCPSto2(tHM) | BO5: cost | BP5: esc | BQ5: disc | BR5: SFRSCPStock(tHM) | BS5: SFRSRP1(tHM) | BT5: SFRSRP2(tHM) | BU5: SFRSRP(tHM) | BV5: SFRSRPSto1(tHM) | BW5: cost | BX5: esc | BY5: disc | BZ5: SFRSRPSto2(tHM) | CA5: cost | CB5: esc | CC5: disc | CD5: SFRSRPStock(tHM) | CE5: SFR1(tHM) | CF5: cost | CG5: esc | CH5: disc | CI5: SFR2(tHM) | CJ5: cost | CK5: esc | CL5: disc | CM5: SFR(tHM) | CN5: DepU(tHM) | CO5: DepUUsed(tHM) | CP5: DepUAccu(tHM) | CQ5: DepUStock(tHM) | CR5: RepU(tHM) | CS5: RepUUsed(tHM) | CT5: RepUAccu(tHM) | CU5: RepUStock(tHM) | CV5: RepPu(tHM) | CW5: RepUUsedNatUEq(tHM) | CX5: RepPuUsed(tHM) | CY5: RepPuAccu(tHM) | CZ5: RepPuStock(tHM) | DA5: cost | DB5: esc | DC5: disc | DD5: cost | DE5: esc | DF5: disc | DG5: RepMA(tHM) | DH5: RepMAUsed(tHM) | DI5: RepMAAccu(tHM) | DJ5: RepMAStock(tHM) | DK5: RepFP(t) | DL5: cost | DM5: esc | DN5: disc | DO5: RepFPStock(t) | DP5: ILWVolume(m3) | DQ5: ILWVolumeStock(m3) | DR5: HLWVolume(m3) | DS5: HLWVolumeStock(m3) | DW5: Natural U | DX5: =H108 -> 0 | DY5: =DX5/$DX$14 -> 0
A6: =Results_MF!A4-$A$4 -> 0 | B6: =1/((1+$B$4)^(A6)) -> 1 | C6: =Results_MF!C4 -> 32236.8 | D6: =C6*B6 -> 32236.8 | E6: =Results_MF!K4 -> 0 | F6: =E6*$F$4 -> 0 | G6: =F6*(1+$G$4)^A6 -> 0 | H6: =G6*B6 -> 0 | I6: =Results_MF!L4 -> 0 | J6: =I6*$J$4 -> 0 | K6: =J6*(1+$K$4)^A6 -> 0 | L6: =K6*B6 -> 0 | M6: =Results_MF!M4 -> 0 | N6: =M6*$N$4 -> 0 | O6: =N6*(1+$O$4)^A6 -> 0 | P6: =O6*B6 -> 0 | Q6: 0 | W6: =Results_MF!Q4 -> 0 | X6: =W6*$X$4 -> 0 | Y6: =X6*(1+$Y$4)^A6 -> 0 | Z6: =Y6*B6 -> 0 | AC6: =Results_MF!T4 -> 0 | AD6: =AC6*$AD$4 -> 0 | AE6: =AD6*(1+$AE$4)^A6 -> 0 | AF6: =AE6*B6 -> 0 | AG6: =Results_MF!U4 -> 0 | AH6: =AG6*$AH$4 -> 0 | AI6: =AH6*(1+$AI$4)^A6 -> 0 | AJ6: =AI6*B6 -> 0 | AR6: =Results_MF!AC5 -> 0 | AS6: =AR6*$AS$4 -> 0 | AT6: =AS6*(1+$AT$4)^A6 -> 0 | AU6: =AT6*B6 -> 0 | AV6: =Results_MF!AD5 -> 0 | AW6: =AV6*$AW$4 -> 0 | AX6: =AW6*(1+$AX$4)^A6 -> 0 | AY6: =AX6*B6 -> 0 | BJ6: =Results_MF!AO4 -> 0 | BK6: =BJ6*$BK$4 -> 0 | BL6: =BK6*(1+$BL$4)^A6 -> 0 | BM6: =BL6*B6 -> 0 | BN6: =Results_MF!AP4 -> 0 | BO6: =BN6*$BO$4 -> 0 | BP6: =BO6*(1+$BP$4)^A6 -> 0 | BQ6: =BP6*B6 -> 0 | BV6: =Results_MF!AU4 -> 0 | BW6: =BV6*$BW$4 -> 0 | BX6: =BW6*(1+$BX$4)^A6 -> 0 | BY6: =BX6*B6 -> 0 | BZ6: =Results_MF!AV4 -> 0 | CA6: =BZ6*$CA$4 -> 0 | CB6: =CA6*(1+$CB$4)^M6 -> 0 | CC6: =CB6*B6 -> 0 | CE6: =Results_MF!AX4 -> 0 | CF6: =CE6*$CF$4 -> 0 | CG6: =CF6*(1+$CG$4)^A6 -> 0 | CH6: =CG6*B6 -> 0 | CI6: =Results_MF!AY4 -> 0 | CJ6: =CI6*$CJ$4 -> 0 | CK6: =CJ6*(1+$CK$4)^A6 -> 0 | CL6: =CK6*B6 -> 0 | CX6: =Results_MF!BK4 -> 0 | CY6: =Results_MF!BL4 -> 0 | CZ6: =Results_MF!BM4 -> 0 | DA6: =IF(CY6<0,$DA$4*(-CY6),0) -> 0 | DB6: =DA6*(1+$DB$4)^R6 -> 0 | DC6: =DB6*B6 -> 0 | DD6: =IF(CZ6<0,0,CZ6*$DD$4) -> 0 | DE6: =DD6*(1+$DE$4)^A6 -> 0 | DF6: =DE6*B6 -> 0 | DK6: =Results_MF!BR4 -> 0 | DL6: =DK6*$DL$4 -> 0 | DM6: =DL6*(1+$DM$4)^A6 -> 0 | DN6: =DM6*B6 -> 0 | DW6: Conversion | DX6: =L108+P108 -> 0 | DY6: =DX6/$DX$14 -> 0
A7: =Results_MF!A5-$A$4 -> 1 | B7: =1/((1+$B$4)^(A7)) -> 0.96153846 | C7: =Results_MF!C5 -> 32236.8 | D7: =C7*B7 -> 30996.923 | E7: =Results_MF!K5 -> 0 | F7: =E7*$F$4 -> 0 | G7: =F7*(1+$G$4)^A7 -> 0 | H7: =G7*B7 -> 0 | I7: =Results_MF!L5 -> 0 | J7: =I7*$J$4 -> 0 | K7: =J7*(1+$K$4)^A7 -> 0 | L7: =K7*B7 -> 0 | M7: =Results_MF!M5 -> 0 | N7: =M7*$N$4 -> 0 | O7: =N7*(1+$O$4)^A7 -> 0 | P7: =O7*B7 -> 0 | Q7: 0 | W7: =Results_MF!Q5 -> 0 | X7: =W7*$X$4 -> 0 | Y7: =X7*(1+$Y$4)^A7 -> 0 | Z7: =Y7*B7 -> 0 | AC7: =Results_MF!T5 -> 0 | AD7: =AC7*$AD$4 -> 0 | AE7: =AD7*(1+$AE$4)^A7 -> 0 | AF7: =AE7*B7 -> 0 | AG7: =Results_MF!U5 -> 0 | AH7: =AG7*$AH$4 -> 0 | AI7: =AH7*(1+$AI$4)^A7 -> 0 | AJ7: =AI7*B7 -> 0 | AR7: =Results_MF!AC6 -> 0 | AS7: =AR7*$AS$4 -> 0 | AT7: =AS7*(1+$AT$4)^A7 -> 0 | AU7: =AT7*B7 -> 0 | AV7: =Results_MF!AD6 -> 0 | AW7: =AV7*$AW$4 -> 0 | AX7: =AW7*(1+$AX$4)^A7 -> 0 | AY7: =AX7*B7 -> 0 | BJ7: =Results_MF!AO5 -> 0 | BK7: =BJ7*$BK$4 -> 0 | BL7: =BK7*(1+$BL$4)^A7 -> 0 | BM7: =BL7*B7 -> 0 | BN7: =Results_MF!AP5 -> 0 | BO7: =BN7*$BO$4 -> 0 | BP7: =BO7*(1+$BP$4)^A7 -> 0 | BQ7: =BP7*B7 -> 0 | BV7: =Results_MF!AU5 -> 0 | BW7: =BV7*$BW$4 -> 0 | BX7: =BW7*(1+$BX$4)^A7 -> 0 | BY7: =BX7*B7 -> 0 | BZ7: =Results_MF!AV5 -> 0 | CA7: =BZ7*$CA$4 -> 0 | CB7: =CA7*(1+$CB$4)^M7 -> 0 | CC7: =CB7*B7 -> 0 | CE7: =Results_MF!AX5 -> 0 | CF7: =CE7*$CF$4 -> 0 | CG7: =CF7*(1+$CG$4)^A7 -> 0 | CH7: =CG7*B7 -> 0 | CI7: =Results_MF!AY5 -> 0 | CJ7: =CI7*$CJ$4 -> 0 | CK7: =CJ7*(1+$CK$4)^A7 -> 0 | CL7: =CK7*B7 -> 0 | CX7: =Results_MF!BK5 -> 0 | CY7: =Results_MF!BL5 -> 0 | CZ7: =Results_MF!BM5 -> 0 | DA7: =IF(CY7<0,$DA$4*(-CY7),0) -> 0 | DB7: =DA7*(1+$DB$4)^R7 -> 0 | DC7: =DB7*B7 -> 0 | DD7: =IF(CZ7<0,0,CZ7*$DD$4) -> 0 | DE7: =DD7*(1+$DE$4)^A7 -> 0 | DF7: =DE7*B7 -> 0 | DK7: =Results_MF!BR5 -> 0 | DL7: =DK7*$DL$4 -> 0 | DM7: =DL7*(1+$DM$4)^A7 -> 0 | DN7: =DM7*B7 -> 0 | DW7: Enrichment | DX7: =Z108 -> 0 | DY7: =DX7/$DX$14 -> 0
A8: =Results_MF!A6-$A$4 -> 2 | B8: =1/((1+$B$4)^(A8)) -> 0.92455621 | C8: =Results_MF!C6 -> 32236.8 | D8: =C8*B8 -> 29804.734 | E8: =Results_MF!K6 -> 0 | F8: =E8*$F$4 -> 0 | G8: =F8*(1+$G$4)^A8 -> 0 | H8: =G8*B8 -> 0 | I8: =Results_MF!L6 -> 0 | J8: =I8*$J$4 -> 0 | K8: =J8*(1+$K$4)^A8 -> 0 | L8: =K8*B8 -> 0 | M8: =Results_MF!M6 -> 0 | N8: =M8*$N$4 -> 0 | O8: =N8*(1+$O$4)^A8 -> 0 | P8: =O8*B8 -> 0 | Q8: 0 | W8: =Results_MF!Q6 -> 0 | X8: =W8*$X$4 -> 0 | Y8: =X8*(1+$Y$4)^A8 -> 0 | Z8: =Y8*B8 -> 0 | AC8: =Results_MF!T6 -> 0 | AD8: =AC8*$AD$4 -> 0 | AE8: =AD8*(1+$AE$4)^A8 -> 0 | AF8: =AE8*B8 -> 0 | AG8: =Results_MF!U6 -> 0 | AH8: =AG8*$AH$4 -> 0 | AI8: =AH8*(1+$AI$4)^A8 -> 0 | AJ8: =AI8*B8 -> 0 | AR8: =Results_MF!AC7 -> 0 | AS8: =AR8*$AS$4 -> 0 | AT8: =AS8*(1+$AT$4)^A8 -> 0 | AU8: =AT8*B8 -> 0 | AV8: =Results_MF!AD7 -> 0 | AW8: =AV8*$AW$4 -> 0 | AX8: =AW8*(1+$AX$4)^A8 -> 0 | AY8: =AX8*B8 -> 0 | BJ8: =Results_MF!AO6 -> 0 | BK8: =BJ8*$BK$4 -> 0 | BL8: =BK8*(1+$BL$4)^A8 -> 0 | BM8: =BL8*B8 -> 0 | BN8: =Results_MF!AP6 -> 0 | BO8: =BN8*$BO$4 -> 0 | BP8: =BO8*(1+$BP$4)^A8 -> 0 | BQ8: =BP8*B8 -> 0 | BV8: =Results_MF!AU6 -> 0 | BW8: =BV8*$BW$4 -> 0 | BX8: =BW8*(1+$BX$4)^A8 -> 0 | BY8: =BX8*B8 -> 0 | BZ8: =Results_MF!AV6 -> 0 | CA8: =BZ8*$CA$4 -> 0 | CB8: =CA8*(1+$CB$4)^M8 -> 0 | CC8: =CB8*B8 -> 0 | CE8: =Results_MF!AX6 -> 0 | CF8: =CE8*$CF$4 -> 0 | CG8: =CF8*(1+$CG$4)^A8 -> 0 | CH8: =CG8*B8 -> 0 | CI8: =Results_MF!AY6 -> 0 | CJ8: =CI8*$CJ$4 -> 0 | CK8: =CJ8*(1+$CK$4)^A8 -> 0 | CL8: =CK8*B8 -> 0 | CX8: =Results_MF!BK6 -> 0 | CY8: =Results_MF!BL6 -> 0 | CZ8: =Results_MF!BM6 -> 0 | DA8: =IF(CY8<0,$DA$4*(-CY8),0) -> 0 | DB8: =DA8*(1+$DB$4)^R8 -> 0 | DC8: =DB8*B8 -> 0 | DD8: =IF(CZ8<0,0,CZ8*$DD$4) -> 0 | DE8: =DD8*(1+$DE$4)^A8 -> 0 | DF8: =DE8*B8 -> 0 | DK8: =Results_MF!BR6 -> 0 | DL8: =DK8*$DL$4 -> 0 | DM8: =DL8*(1+$DM$4)^A8 -> 0 | DN8: =DM8*B8 -> 0 | DW8: Fuel fabrication | DX8: =AF108+AJ108 -> 0 | DY8: =DX8/$DX$14 -> 0
A9: =Results_MF!A7-$A$4 -> 3 | B9: =1/((1+$B$4)^(A9)) -> 0.88899636 | C9: =Results_MF!C7 -> 32236.8 | D9: =C9*B9 -> 28658.398 | E9: =Results_MF!K7 -> 0 | F9: =E9*$F$4 -> 0 | G9: =F9*(1+$G$4)^A9 -> 0 | H9: =G9*B9 -> 0 | I9: =Results_MF!L7 -> 0 | J9: =I9*$J$4 -> 0 | K9: =J9*(1+$K$4)^A9 -> 0 | L9: =K9*B9 -> 0 | M9: =Results_MF!M7 -> 0 | N9: =M9*$N$4 -> 0 | O9: =N9*(1+$O$4)^A9 -> 0 | P9: =O9*B9 -> 0 | Q9: 0 | W9: =Results_MF!Q7 -> 0 | X9: =W9*$X$4 -> 0 | Y9: =X9*(1+$Y$4)^A9 -> 0 | Z9: =Y9*B9 -> 0 | AC9: =Results_MF!T7 -> 0 | AD9: =AC9*$AD$4 -> 0 | AE9: =AD9*(1+$AE$4)^A9 -> 0 | AF9: =AE9*B9 -> 0 | AG9: =Results_MF!U7 -> 0 | AH9: =AG9*$AH$4 -> 0 | AI9: =AH9*(1+$AI$4)^A9 -> 0 | AJ9: =AI9*B9 -> 0 | AR9: =Results_MF!AC8 -> 0 | AS9: =AR9*$AS$4 -> 0 | AT9: =AS9*(1+$AT$4)^A9 -> 0 | AU9: =AT9*B9 -> 0 | AV9: =Results_MF!AD8 -> 0 | AW9: =AV9*$AW$4 -> 0 | AX9: =AW9*(1+$AX$4)^A9 -> 0 | AY9: =AX9*B9 -> 0 | BJ9: =Results_MF!AO7 -> 0 | BK9: =BJ9*$BK$4 -> 0 | BL9: =BK9*(1+$BL$4)^A9 -> 0 | BM9: =BL9*B9 -> 0 | BN9: =Results_MF!AP7 -> 0 | BO9: =BN9*$BO$4 -> 0 | BP9: =BO9*(1+$BP$4)^A9 -> 0 | BQ9: =BP9*B9 -> 0 | BV9: =Results_MF!AU7 -> 0 | BW9: =BV9*$BW$4 -> 0 | BX9: =BW9*(1+$BX$4)^A9 -> 0 | BY9: =BX9*B9 -> 0 | BZ9: =Results_MF!AV7 -> 0 | CA9: =BZ9*$CA$4 -> 0 | CB9: =CA9*(1+$CB$4)^M9 -> 0 | CC9: =CB9*B9 -> 0 | CE9: =Results_MF!AX7 -> 0 | CF9: =CE9*$CF$4 -> 0 | CG9: =CF9*(1+$CG$4)^A9 -> 0 | CH9: =CG9*B9 -> 0 | CI9: =Results_MF!AY7 -> 0 | CJ9: =CI9*$CJ$4 -> 0 | CK9: =CJ9*(1+$CK$4)^A9 -> 0 | CL9: =CK9*B9 -> 0 | CX9: =Results_MF!BK7 -> 0 | CY9: =Results_MF!BL7 -> 0 | CZ9: =Results_MF!BM7 -> 0 | DA9: =IF(CY9<0,$DA$4*(-CY9),0) -> 0 | DB9: =DA9*(1+$DB$4)^R9 -> 0 | DC9: =DB9*B9 -> 0 | DD9: =IF(CZ9<0,0,CZ9*$DD$4) -> 0 | DE9: =DD9*(1+$DE$4)^A9 -> 0 | DF9: =DE9*B9 -> 0 | DK9: =Results_MF!BR7 -> 0 | DL9: =DK9*$DL$4 -> 0 | DM9: =DL9*(1+$DM$4)^A9 -> 0 | DN9: =DM9*B9 -> 0 | DW9: Reprocessing | DX9: =CL108+CH108 -> 0 | DY9: =DX9/$DX$14 -> 0
A10: =Results_MF!A8-$A$4 -> 4 | B10: =1/((1+$B$4)^(A10)) -> 0.85480419 | C10: =Results_MF!C8 -> 32236.8 | D10: =C10*B10 -> 27556.152 | E10: =Results_MF!K8 -> 0 | F10: =E10*$F$4 -> 0 | G10: =F10*(1+$G$4)^A10 -> 0 | H10: =G10*B10 -> 0 | I10: =Results_MF!L8 -> 0 | J10: =I10*$J$4 -> 0 | K10: =J10*(1+$K$4)^A10 -> 0 | L10: =K10*B10 -> 0 | M10: =Results_MF!M8 -> 0 | N10: =M10*$N$4 -> 0 | O10: =N10*(1+$O$4)^A10 -> 0 | P10: =O10*B10 -> 0 | Q10: 0 | W10: =Results_MF!Q8 -> 0 | X10: =W10*$X$4 -> 0 | Y10: =X10*(1+$Y$4)^A10 -> 0 | Z10: =Y10*B10 -> 0 | AC10: =Results_MF!T8 -> 0 | AD10: =AC10*$AD$4 -> 0 | AE10: =AD10*(1+$AE$4)^A10 -> 0 | AF10: =AE10*B10 -> 0 | AG10: =Results_MF!U8 -> 0 | AH10: =AG10*$AH$4 -> 0 | AI10: =AH10*(1+$AI$4)^A10 -> 0 | AJ10: =AI10*B10 -> 0 | AR10: =Results_MF!AC9 -> 0 | AS10: =AR10*$AS$4 -> 0 | AT10: =AS10*(1+$AT$4)^A10 -> 0 | AU10: =AT10*B10 -> 0 | AV10: =Results_MF!AD9 -> 0 | AW10: =AV10*$AW$4 -> 0 | AX10: =AW10*(1+$AX$4)^A10 -> 0 | AY10: =AX10*B10 -> 0 | BJ10: =Results_MF!AO8 -> 0 | BK10: =BJ10*$BK$4 -> 0 | BL10: =BK10*(1+$BL$4)^A10 -> 0 | BM10: =BL10*B10 -> 0 | BN10: =Results_MF!AP8 -> 0 | BO10: =BN10*$BO$4 -> 0 | BP10: =BO10*(1+$BP$4)^A10 -> 0 | BQ10: =BP10*B10 -> 0 | BV10: =Results_MF!AU8 -> 0 | BW10: =BV10*$BW$4 -> 0 | BX10: =BW10*(1+$BX$4)^A10 -> 0 | BY10: =BX10*B10 -> 0 | BZ10: =Results_MF!AV8 -> 0 | CA10: =BZ10*$CA$4 -> 0 | CB10: =CA10*(1+$CB$4)^M10 -> 0 | CC10: =CB10*B10 -> 0 | CE10: =Results_MF!AX8 -> 0 | CF10: =CE10*$CF$4 -> 0 | CG10: =CF10*(1+$CG$4)^A10 -> 0 | CH10: =CG10*B10 -> 0 | CI10: =Results_MF!AY8 -> 0 | CJ10: =CI10*$CJ$4 -> 0 | CK10: =CJ10*(1+$CK$4)^A10 -> 0 | CL10: =CK10*B10 -> 0 | CX10: =Results_MF!BK8 -> 0 | CY10: =Results_MF!BL8 -> 0 | CZ10: =Results_MF!BM8 -> 0 | DA10: =IF(CY10<0,$DA$4*(-CY10),0) -> 0 | DB10: =DA10*(1+$DB$4)^R10 -> 0 | DC10: =DB10*B10 -> 0 | DD10: =IF(CZ10<0,0,CZ10*$DD$4) -> 0 | DE10: =DD10*(1+$DE$4)^A10 -> 0 | DF10: =DE10*B10 -> 0 | DK10: =Results_MF!BR8 -> 0 | DL10: =DK10*$DL$4 -> 0 | DM10: =DL10*(1+$DM$4)^A10 -> 0 | DN10: =DM10*B10 -> 0 | DW10: Spent fuel storage | DX10: =BM108+BQ108+BY108+CC108 -> 0 | DY10: =DX10/$DX$14 -> 0
A11: =Results_MF!A9-$A$4 -> 5 | B11: =1/((1+$B$4)^(A11)) -> 0.82192711 | C11: =Results_MF!C9 -> 32236.8 | D11: =C11*B11 -> 26496.3 | E11: =Results_MF!K9 -> 0 | F11: =E11*$F$4 -> 0 | G11: =F11*(1+$G$4)^A11 -> 0 | H11: =G11*B11 -> 0 | I11: =Results_MF!L9 -> 0 | J11: =I11*$J$4 -> 0 | K11: =J11*(1+$K$4)^A11 -> 0 | L11: =K11*B11 -> 0 | M11: =Results_MF!M9 -> 0 | N11: =M11*$N$4 -> 0 | O11: =N11*(1+$O$4)^A11 -> 0 | P11: =O11*B11 -> 0 | Q11: 0 | W11: =Results_MF!Q9 -> 0 | X11: =W11*$X$4 -> 0 | Y11: =X11*(1+$Y$4)^A11 -> 0 | Z11: =Y11*B11 -> 0 | AC11: =Results_MF!T9 -> 0 | AD11: =AC11*$AD$4 -> 0 | AE11: =AD11*(1+$AE$4)^A11 -> 0 | AF11: =AE11*B11 -> 0 | AG11: =Results_MF!U9 -> 0 | AH11: =AG11*$AH$4 -> 0 | AI11: =AH11*(1+$AI$4)^A11 -> 0 | AJ11: =AI11*B11 -> 0 | AR11: =Results_MF!AC10 -> 0 | AS11: =AR11*$AS$4 -> 0 | AT11: =AS11*(1+$AT$4)^A11 -> 0 | AU11: =AT11*B11 -> 0 | AV11: =Results_MF!AD10 -> 0 | AW11: =AV11*$AW$4 -> 0 | AX11: =AW11*(1+$AX$4)^A11 -> 0 | AY11: =AX11*B11 -> 0 | BJ11: =Results_MF!AO9 -> 0 | BK11: =BJ11*$BK$4 -> 0 | BL11: =BK11*(1+$BL$4)^A11 -> 0 | BM11: =BL11*B11 -> 0 | BN11: =Results_MF!AP9 -> 0 | BO11: =BN11*$BO$4 -> 0 | BP11: =BO11*(1+$BP$4)^A11 -> 0 | BQ11: =BP11*B11 -> 0 | BV11: =Results_MF!AU9 -> 0 | BW11: =BV11*$BW$4 -> 0 | BX11: =BW11*(1+$BX$4)^A11 -> 0 | BY11: =BX11*B11 -> 0 | BZ11: =Results_MF!AV9 -> 0 | CA11: =BZ11*$CA$4 -> 0 | CB11: =CA11*(1+$CB$4)^M11 -> 0 | CC11: =CB11*B11 -> 0 | CE11: =Results_MF!AX9 -> 0 | CF11: =CE11*$CF$4 -> 0 | CG11: =CF11*(1+$CG$4)^A11 -> 0 | CH11: =CG11*B11 -> 0 | CI11: =Results_MF!AY9 -> 0 | CJ11: =CI11*$CJ$4 -> 0 | CK11: =CJ11*(1+$CK$4)^A11 -> 0 | CL11: =CK11*B11 -> 0 | CX11: =Results_MF!BK9 -> 0 | CY11: =Results_MF!BL9 -> 0 | CZ11: =Results_MF!BM9 -> 0 | DA11: =IF(CY11<0,$DA$4*(-CY11),0) -> 0 | DB11: =DA11*(1+$DB$4)^R11 -> 0 | DC11: =DB11*B11 -> 0 | DD11: =IF(CZ11<0,0,CZ11*$DD$4) -> 0 | DE11: =DD11*(1+$DE$4)^A11 -> 0 | DF11: =DE11*B11 -> 0 | DK11: =Results_MF!BR9 -> 0 | DL11: =DK11*$DL$4 -> 0 | DM11: =DL11*(1+$DM$4)^A11 -> 0 | DN11: =DM11*B11 -> 0 | DW11: Pu | DX11: =DC108+DF108 -> 0 | DY11: =DX11/$DX$14 -> 0
A12: =Results_MF!A10-$A$4 -> 6 | B12: =1/((1+$B$4)^(A12)) -> 0.79031453 | C12: =Results_MF!C10 -> 32236.8 | D12: =C12*B12 -> 25477.211 | E12: =Results_MF!K10 -> 0 | F12: =E12*$F$4 -> 0 | G12: =F12*(1+$G$4)^A12 -> 0 | H12: =G12*B12 -> 0 | I12: =Results_MF!L10 -> 0 | J12: =I12*$J$4 -> 0 | K12: =J12*(1+$K$4)^A12 -> 0 | L12: =K12*B12 -> 0 | M12: =Results_MF!M10 -> 0 | N12: =M12*$N$4 -> 0 | O12: =N12*(1+$O$4)^A12 -> 0 | P12: =O12*B12 -> 0 | Q12: 0 | W12: =Results_MF!Q10 -> 0 | X12: =W12*$X$4 -> 0 | Y12: =X12*(1+$Y$4)^A12 -> 0 | Z12: =Y12*B12 -> 0 | AC12: =Results_MF!T10 -> 0 | AD12: =AC12*$AD$4 -> 0 | AE12: =AD12*(1+$AE$4)^A12 -> 0 | AF12: =AE12*B12 -> 0 | AG12: =Results_MF!U10 -> 0 | AH12: =AG12*$AH$4 -> 0 | AI12: =AH12*(1+$AI$4)^A12 -> 0 | AJ12: =AI12*B12 -> 0 | AR12: =Results_MF!AC11 -> 0 | AS12: =AR12*$AS$4 -> 0 | AT12: =AS12*(1+$AT$4)^A12 -> 0 | AU12: =AT12*B12 -> 0 | AV12: =Results_MF!AD11 -> 0 | AW12: =AV12*$AW$4 -> 0 | AX12: =AW12*(1+$AX$4)^A12 -> 0 | AY12: =AX12*B12 -> 0 | BJ12: =Results_MF!AO10 -> 0 | BK12: =BJ12*$BK$4 -> 0 | BL12: =BK12*(1+$BL$4)^A12 -> 0 | BM12: =BL12*B12 -> 0 | BN12: =Results_MF!AP10 -> 0 | BO12: =BN12*$BO$4 -> 0 | BP12: =BO12*(1+$BP$4)^A12 -> 0 | BQ12: =BP12*B12 -> 0 | BV12: =Results_MF!AU10 -> 0 | BW12: =BV12*$BW$4 -> 0 | BX12: =BW12*(1+$BX$4)^A12 -> 0 | BY12: =BX12*B12 -> 0 | BZ12: =Results_MF!AV10 -> 0 | CA12: =BZ12*$CA$4 -> 0 | CB12: =CA12*(1+$CB$4)^M12 -> 0 | CC12: =CB12*B12 -> 0 | CE12: =Results_MF!AX10 -> 0 | CF12: =CE12*$CF$4 -> 0 | CG12: =CF12*(1+$CG$4)^A12 -> 0 | CH12: =CG12*B12 -> 0 | CI12: =Results_MF!AY10 -> 0 | CJ12: =CI12*$CJ$4 -> 0 | CK12: =CJ12*(1+$CK$4)^A12 -> 0 | CL12: =CK12*B12 -> 0 | CX12: =Results_MF!BK10 -> 0 | CY12: =Results_MF!BL10 -> 0 | CZ12: =Results_MF!BM10 -> 0 | DA12: =IF(CY12<0,$DA$4*(-CY12),0) -> 0 | DB12: =DA12*(1+$DB$4)^R12 -> 0 | DC12: =DB12*B12 -> 0 | DD12: =IF(CZ12<0,0,CZ12*$DD$4) -> 0 | DE12: =DD12*(1+$DE$4)^A12 -> 0 | DF12: =DE12*B12 -> 0 | DK12: =Results_MF!BR10 -> 0 | DL12: =DK12*$DL$4 -> 0 | DM12: =DL12*(1+$DM$4)^A12 -> 0 | DN12: =DM12*B12 -> 0 | DW12: Disposal | DX12: =AU108+AY108+DN108 -> 0 | DY12: =DX12/$DX$14 -> 0
A13: =Results_MF!A11-$A$4 -> 7 | B13: =1/((1+$B$4)^(A13)) -> 0.75991781 | C13: =Results_MF!C11 -> 32236.8 | D13: =C13*B13 -> 24497.319 | E13: =Results_MF!K11 -> 0 | F13: =E13*$F$4 -> 0 | G13: =F13*(1+$G$4)^A13 -> 0 | H13: =G13*B13 -> 0 | I13: =Results_MF!L11 -> 0 | J13: =I13*$J$4 -> 0 | K13: =J13*(1+$K$4)^A13 -> 0 | L13: =K13*B13 -> 0 | M13: =Results_MF!M11 -> 0 | N13: =M13*$N$4 -> 0 | O13: =N13*(1+$O$4)^A13 -> 0 | P13: =O13*B13 -> 0 | Q13: 0 | W13: =Results_MF!Q11 -> 0 | X13: =W13*$X$4 -> 0 | Y13: =X13*(1+$Y$4)^A13 -> 0 | Z13: =Y13*B13 -> 0 | AC13: =Results_MF!T11 -> 0 | AD13: =AC13*$AD$4 -> 0 | AE13: =AD13*(1+$AE$4)^A13 -> 0 | AF13: =AE13*B13 -> 0 | AG13: =Results_MF!U11 -> 0 | AH13: =AG13*$AH$4 -> 0 | AI13: =AH13*(1+$AI$4)^A13 -> 0 | AJ13: =AI13*B13 -> 0 | AR13: =Results_MF!AC12 -> 0 | AS13: =AR13*$AS$4 -> 0 | AT13: =AS13*(1+$AT$4)^A13 -> 0 | AU13: =AT13*B13 -> 0 | AV13: =Results_MF!AD12 -> 0 | AW13: =AV13*$AW$4 -> 0 | AX13: =AW13*(1+$AX$4)^A13 -> 0 | AY13: =AX13*B13 -> 0 | BJ13: =Results_MF!AO11 -> 0 | BK13: =BJ13*$BK$4 -> 0 | BL13: =BK13*(1+$BL$4)^A13 -> 0 | BM13: =BL13*B13 -> 0 | BN13: =Results_MF!AP11 -> 0 | BO13: =BN13*$BO$4 -> 0 | BP13: =BO13*(1+$BP$4)^A13 -> 0 | BQ13: =BP13*B13 -> 0 | BV13: =Results_MF!AU11 -> 0 | BW13: =BV13*$BW$4 -> 0 | BX13: =BW13*(1+$BX$4)^A13 -> 0 | BY13: =BX13*B13 -> 0 | BZ13: =Results_MF!AV11 -> 0 | CA13: =BZ13*$CA$4 -> 0 | CB13: =CA13*(1+$CB$4)^M13 -> 0 | CC13: =CB13*B13 -> 0 | CE13: =Results_MF!AX11 -> 0 | CF13: =CE13*$CF$4 -> 0 | CG13: =CF13*(1+$CG$4)^A13 -> 0 | CH13: =CG13*B13 -> 0 | CI13: =Results_MF!AY11 -> 0 | CJ13: =CI13*$CJ$4 -> 0 | CK13: =CJ13*(1+$CK$4)^A13 -> 0 | CL13: =CK13*B13 -> 0 | CX13: =Results_MF!BK11 -> 0 | CY13: =Results_MF!BL11 -> 0 | CZ13: =Results_MF!BM11 -> 0 | DA13: =IF(CY13<0,$DA$4*(-CY13),0) -> 0 | DB13: =DA13*(1+$DB$4)^R13 -> 0 | DC13: =DB13*B13 -> 0 | DD13: =IF(CZ13<0,0,CZ13*$DD$4) -> 0 | DE13: =DD13*(1+$DE$4)^A13 -> 0 | DF13: =DE13*B13 -> 0 | DK13: =Results_MF!BR11 -> 0 | DL13: =DK13*$DL$4 -> 0 | DM13: =DL13*(1+$DM$4)^A13 -> 0 | DN13: =DM13*B13 -> 0 | DW13: Total fuel cycle | DX13: =SUM(DX5:DX12) -> 0 | DY13: =SUM(DY5:DY12) -> 0
A14: =Results_MF!A12-$A$4 -> 8 | B14: =1/((1+$B$4)^(A14)) -> 0.73069021 | C14: =Results_MF!C12 -> 32236.8 | D14: =C14*B14 -> 23555.114 | E14: =Results_MF!K12 -> 0 | F14: =E14*$F$4 -> 0 | G14: =F14*(1+$G$4)^A14 -> 0 | H14: =G14*B14 -> 0 | I14: =Results_MF!L12 -> 0 | J14: =I14*$J$4 -> 0 | K14: =J14*(1+$K$4)^A14 -> 0 | L14: =K14*B14 -> 0 | M14: =Results_MF!M12 -> 0 | N14: =M14*$N$4 -> 0 | O14: =N14*(1+$O$4)^A14 -> 0 | P14: =O14*B14 -> 0 | Q14: 0 | W14: =Results_MF!Q12 -> 0 | X14: =W14*$X$4 -> 0 | Y14: =X14*(1+$Y$4)^A14 -> 0 | Z14: =Y14*B14 -> 0 | AC14: =Results_MF!T12 -> 0 | AD14: =AC14*$AD$4 -> 0 | AE14: =AD14*(1+$AE$4)^A14 -> 0 | AF14: =AE14*B14 -> 0 | AG14: =Results_MF!U12 -> 0 | AH14: =AG14*$AH$4 -> 0 | AI14: =AH14*(1+$AI$4)^A14 -> 0 | AJ14: =AI14*B14 -> 0 | AR14: =Results_MF!AC13 -> 0 | AS14: =AR14*$AS$4 -> 0 | AT14: =AS14*(1+$AT$4)^A14 -> 0 | AU14: =AT14*B14 -> 0 | AV14: =Results_MF!AD13 -> 0 | AW14: =AV14*$AW$4 -> 0 | AX14: =AW14*(1+$AX$4)^A14 -> 0 | AY14: =AX14*B14 -> 0 | BJ14: =Results_MF!AO12 -> 0 | BK14: =BJ14*$BK$4 -> 0 | BL14: =BK14*(1+$BL$4)^A14 -> 0 | BM14: =BL14*B14 -> 0 | BN14: =Results_MF!AP12 -> 0 | BO14: =BN14*$BO$4 -> 0 | BP14: =BO14*(1+$BP$4)^A14 -> 0 | BQ14: =BP14*B14 -> 0 | BV14: =Results_MF!AU12 -> 0 | BW14: =BV14*$BW$4 -> 0 | BX14: =BW14*(1+$BX$4)^A14 -> 0 | BY14: =BX14*B14 -> 0 | BZ14: =Results_MF!AV12 -> 0 | CA14: =BZ14*$CA$4 -> 0 | CB14: =CA14*(1+$CB$4)^M14 -> 0 | CC14: =CB14*B14 -> 0 | CE14: =Results_MF!AX12 -> 0 | CF14: =CE14*$CF$4 -> 0 | CG14: =CF14*(1+$CG$4)^A14 -> 0 | CH14: =CG14*B14 -> 0 | CI14: =Results_MF!AY12 -> 0 | CJ14: =CI14*$CJ$4 -> 0 | CK14: =CJ14*(1+$CK$4)^A14 -> 0 | CL14: =CK14*B14 -> 0 | CW14: =CX14+CY14 -> 0 | CX14: =Results_MF!BK12 -> 0 | CY14: =Results_MF!BL12 -> 0 | CZ14: =Results_MF!BM12 -> 0 | DA14: =IF(CY14<0,$DA$4*(-CY14),0) -> 0 | DB14: =DA14*(1+$DB$4)^R14 -> 0 | DC14: =DB14*B14 -> 0 | DD14: =IF(CZ14<0,0,CZ14*$DD$4) -> 0 | DE14: =DD14*(1+$DE$4)^A14 -> 0 | DF14: =DE14*B14 -> 0 | DK14: =Results_MF!BR12 -> 0 | DL14: =DK14*$DL$4 -> 0 | DM14: =DL14*(1+$DM$4)^A14 -> 0 | DN14: =DM14*B14 -> 0 | DW14: Discounted electricity | DX14: =D108 -> 786184.88
A15: =Results_MF!A13-$A$4 -> 9 | B15: =1/((1+$B$4)^(A15)) -> 0.70258674 | C15: =Results_MF!C13 -> 32236.8 | D15: =C15*B15 -> 22649.148 | E15: =Results_MF!K13 -> 0 | F15: =E15*$F$4 -> 0 | G15: =F15*(1+$G$4)^A15 -> 0 | H15: =G15*B15 -> 0 | I15: =Results_MF!L13 -> 0 | J15: =I15*$J$4 -> 0 | K15: =J15*(1+$K$4)^A15 -> 0 | L15: =K15*B15 -> 0 | M15: =Results_MF!M13 -> 0 | N15: =M15*$N$4 -> 0 | O15: =N15*(1+$O$4)^A15 -> 0 | P15: =O15*B15 -> 0 | Q15: 0 | W15: =Results_MF!Q13 -> 0 | X15: =W15*$X$4 -> 0 | Y15: =X15*(1+$Y$4)^A15 -> 0 | Z15: =Y15*B15 -> 0 | AC15: =Results_MF!T13 -> 0 | AD15: =AC15*$AD$4 -> 0 | AE15: =AD15*(1+$AE$4)^A15 -> 0 | AF15: =AE15*B15 -> 0 | AG15: =Results_MF!U13 -> 0 | AH15: =AG15*$AH$4 -> 0 | AI15: =AH15*(1+$AI$4)^A15 -> 0 | AJ15: =AI15*B15 -> 0 | AR15: =Results_MF!AC14 -> 0 | AS15: =AR15*$AS$4 -> 0 | AT15: =AS15*(1+$AT$4)^A15 -> 0 | AU15: =AT15*B15 -> 0 | AV15: =Results_MF!AD14 -> 0 | AW15: =AV15*$AW$4 -> 0 | AX15: =AW15*(1+$AX$4)^A15 -> 0 | AY15: =AX15*B15 -> 0 | BJ15: =Results_MF!AO13 -> 0 | BK15: =BJ15*$BK$4 -> 0 | BL15: =BK15*(1+$BL$4)^A15 -> 0 | BM15: =BL15*B15 -> 0 | BN15: =Results_MF!AP13 -> 0 | BO15: =BN15*$BO$4 -> 0 | BP15: =BO15*(1+$BP$4)^A15 -> 0 | BQ15: =BP15*B15 -> 0 | BV15: =Results_MF!AU13 -> 0 | BW15: =BV15*$BW$4 -> 0 | BX15: =BW15*(1+$BX$4)^A15 -> 0 | BY15: =BX15*B15 -> 0 | BZ15: =Results_MF!AV13 -> 0 | CA15: =BZ15*$CA$4 -> 0 | CB15: =CA15*(1+$CB$4)^M15 -> 0 | CC15: =CB15*B15 -> 0 | CE15: =Results_MF!AX13 -> 0 | CF15: =CE15*$CF$4 -> 0 | CG15: =CF15*(1+$CG$4)^A15 -> 0 | CH15: =CG15*B15 -> 0 | CI15: =Results_MF!AY13 -> 0 | CJ15: =CI15*$CJ$4 -> 0 | CK15: =CJ15*(1+$CK$4)^A15 -> 0 | CL15: =CK15*B15 -> 0 | CX15: =Results_MF!BK13 -> 0 | CY15: =Results_MF!BL13 -> 0 | CZ15: =Results_MF!BM13 -> 0 | DA15: =IF(CY15<0,$DA$4*(-CY15),0) -> 0 | DB15: =DA15*(1+$DB$4)^R15 -> 0 | DC15: =DB15*B15 -> 0 | DD15: =IF(CZ15<0,0,CZ15*$DD$4) -> 0 | DE15: =DD15*(1+$DE$4)^A15 -> 0 | DF15: =DE15*B15 -> 0 | DK15: =Results_MF!BR13 -> 0 | DL15: =DK15*$DL$4 -> 0 | DM15: =DL15*(1+$DM$4)^A15 -> 0 | DN15: =DM15*B15 -> 0
A16: =Results_MF!A14-$A$4 -> 10 | B16: =1/((1+$B$4)^(A16)) -> 0.67556417 | C16: =Results_MF!C14 -> 32236.8 | D16: =C16*B16 -> 21778.027 | E16: =Results_MF!K14 -> 0 | F16: =E16*$F$4 -> 0 | G16: =F16*(1+$G$4)^A16 -> 0 | H16: =G16*B16 -> 0 | I16: =Results_MF!L14 -> 0 | J16: =I16*$J$4 -> 0 | K16: =J16*(1+$K$4)^A16 -> 0 | L16: =K16*B16 -> 0 | M16: =Results_MF!M14 -> 0 | N16: =M16*$N$4 -> 0 | O16: =N16*(1+$O$4)^A16 -> 0 | P16: =O16*B16 -> 0 | Q16: 0 | W16: =Results_MF!Q14 -> 0 | X16: =W16*$X$4 -> 0 | Y16: =X16*(1+$Y$4)^A16 -> 0 | Z16: =Y16*B16 -> 0 | AC16: =Results_MF!T14 -> 0 | AD16: =AC16*$AD$4 -> 0 | AE16: =AD16*(1+$AE$4)^A16 -> 0 | AF16: =AE16*B16 -> 0 | AG16: =Results_MF!U14 -> 0 | AH16: =AG16*$AH$4 -> 0 | AI16: =AH16*(1+$AI$4)^A16 -> 0 | AJ16: =AI16*B16 -> 0 | AR16: =Results_MF!AC15 -> 0 | AS16: =AR16*$AS$4 -> 0 | AT16: =AS16*(1+$AT$4)^A16 -> 0 | AU16: =AT16*B16 -> 0 | AV16: =Results_MF!AD15 -> 0 | AW16: =AV16*$AW$4 -> 0 | AX16: =AW16*(1+$AX$4)^A16 -> 0 | AY16: =AX16*B16 -> 0 | BJ16: =Results_MF!AO14 -> 0 | BK16: =BJ16*$BK$4 -> 0 | BL16: =BK16*(1+$BL$4)^A16 -> 0 | BM16: =BL16*B16 -> 0 | BN16: =Results_MF!AP14 -> 0 | BO16: =BN16*$BO$4 -> 0 | BP16: =BO16*(1+$BP$4)^A16 -> 0 | BQ16: =BP16*B16 -> 0 | BV16: =Results_MF!AU14 -> 0 | BW16: =BV16*$BW$4 -> 0 | BX16: =BW16*(1+$BX$4)^A16 -> 0 | BY16: =BX16*B16 -> 0 | BZ16: =Results_MF!AV14 -> 0 | CA16: =BZ16*$CA$4 -> 0 | CB16: =CA16*(1+$CB$4)^M16 -> 0 | CC16: =CB16*B16 -> 0 | CE16: =Results_MF!AX14 -> 0 | CF16: =CE16*$CF$4 -> 0 | CG16: =CF16*(1+$CG$4)^A16 -> 0 | CH16: =CG16*B16 -> 0 | CI16: =Results_MF!AY14 -> 0 | CJ16: =CI16*$CJ$4 -> 0 | CK16: =CJ16*(1+$CK$4)^A16 -> 0 | CL16: =CK16*B16 -> 0 | CX16: =Results_MF!BK14 -> 0 | CY16: =Results_MF!BL14 -> 0 | CZ16: =Results_MF!BM14 -> 0 | DA16: =IF(CY16<0,$DA$4*(-CY16),0) -> 0 | DB16: =DA16*(1+$DB$4)^R16 -> 0 | DC16: =DB16*B16 -> 0 | DD16: =IF(CZ16<0,0,CZ16*$DD$4) -> 0 | DE16: =DD16*(1+$DE$4)^A16 -> 0 | DF16: =DE16*B16 -> 0 | DK16: =Results_MF!BR14 -> 0 | DL16: =DK16*$DL$4 -> 0 | DM16: =DL16*(1+$DM$4)^A16 -> 0 | DN16: =DM16*B16 -> 0
A17: =Results_MF!A15-$A$4 -> 11 | B17: =1/((1+$B$4)^(A17)) -> 0.64958093 | C17: =Results_MF!C15 -> 32236.8 | D17: =C17*B17 -> 20940.411 | E17: =Results_MF!K15 -> 0 | F17: =E17*$F$4 -> 0 | G17: =F17*(1+$G$4)^A17 -> 0 | H17: =G17*B17 -> 0 | I17: =Results_MF!L15 -> 0 | J17: =I17*$J$4 -> 0 | K17: =J17*(1+$K$4)^A17 -> 0 | L17: =K17*B17 -> 0 | M17: =Results_MF!M15 -> 0 | N17: =M17*$N$4 -> 0 | O17: =N17*(1+$O$4)^A17 -> 0 | P17: =O17*B17 -> 0 | Q17: 0 | W17: =Results_MF!Q15 -> 0 | X17: =W17*$X$4 -> 0 | Y17: =X17*(1+$Y$4)^A17 -> 0 | Z17: =Y17*B17 -> 0 | AC17: =Results_MF!T15 -> 0 | AD17: =AC17*$AD$4 -> 0 | AE17: =AD17*(1+$AE$4)^A17 -> 0 | AF17: =AE17*B17 -> 0 | AG17: =Results_MF!U15 -> 0 | AH17: =AG17*$AH$4 -> 0 | AI17: =AH17*(1+$AI$4)^A17 -> 0 | AJ17: =AI17*B17 -> 0 | AR17: =Results_MF!AC16 -> 0 | AS17: =AR17*$AS$4 -> 0 | AT17: =AS17*(1+$AT$4)^A17 -> 0 | AU17: =AT17*B17 -> 0 | AV17: =Results_MF!AD16 -> 0 | AW17: =AV17*$AW$4 -> 0 | AX17: =AW17*(1+$AX$4)^A17 -> 0 | AY17: =AX17*B17 -> 0 | BJ17: =Results_MF!AO15 -> 0 | BK17: =BJ17*$BK$4 -> 0 | BL17: =BK17*(1+$BL$4)^A17 -> 0 | BM17: =BL17*B17 -> 0 | BN17: =Results_MF!AP15 -> 0 | BO17: =BN17*$BO$4 -> 0 | BP17: =BO17*(1+$BP$4)^A17 -> 0 | BQ17: =BP17*B17 -> 0 | BV17: =Results_MF!AU15 -> 0 | BW17: =BV17*$BW$4 -> 0 | BX17: =BW17*(1+$BX$4)^A17 -> 0 | BY17: =BX17*B17 -> 0 | BZ17: =Results_MF!AV15 -> 0 | CA17: =BZ17*$CA$4 -> 0 | CB17: =CA17*(1+$CB$4)^M17 -> 0 | CC17: =CB17*B17 -> 0 | CE17: =Results_MF!AX15 -> 0 | CF17: =CE17*$CF$4 -> 0 | CG17: =CF17*(1+$CG$4)^A17 -> 0 | CH17: =CG17*B17 -> 0 | CI17: =Results_MF!AY15 -> 0 | CJ17: =CI17*$CJ$4 -> 0 | CK17: =CJ17*(1+$CK$4)^A17 -> 0 | CL17: =CK17*B17 -> 0 | CX17: =Results_MF!BK15 -> 0 | CY17: =Results_MF!BL15 -> 0 | CZ17: =Results_MF!BM15 -> 0 | DA17: =IF(CY17<0,$DA$4*(-CY17),0) -> 0 | DB17: =DA17*(1+$DB$4)^R17 -> 0 | DC17: =DB17*B17 -> 0 | DD17: =IF(CZ17<0,0,CZ17*$DD$4) -> 0 | DE17: =DD17*(1+$DE$4)^A17 -> 0 | DF17: =DE17*B17 -> 0 | DK17: =Results_MF!BR15 -> 0 | DL17: =DK17*$DL$4 -> 0 | DM17: =DL17*(1+$DM$4)^A17 -> 0 | DN17: =DM17*B17 -> 0
A18: =Results_MF!A16-$A$4 -> 12 | B18: =1/((1+$B$4)^(A18)) -> 0.62459705 | C18: =Results_MF!C16 -> 32236.8 | D18: =C18*B18 -> 20135.01 | E18: =Results_MF!K16 -> 0 | F18: =E18*$F$4 -> 0 | G18: =F18*(1+$G$4)^A18 -> 0 | H18: =G18*B18 -> 0 | I18: =Results_MF!L16 -> 0 | J18: =I18*$J$4 -> 0 | K18: =J18*(1+$K$4)^A18 -> 0 | L18: =K18*B18 -> 0 | M18: =Results_MF!M16 -> 0 | N18: =M18*$N$4 -> 0 | O18: =N18*(1+$O$4)^A18 -> 0 | P18: =O18*B18 -> 0 | Q18: 0 | W18: =Results_MF!Q16 -> 0 | X18: =W18*$X$4 -> 0 | Y18: =X18*(1+$Y$4)^A18 -> 0 | Z18: =Y18*B18 -> 0 | AC18: =Results_MF!T16 -> 0 | AD18: =AC18*$AD$4 -> 0 | AE18: =AD18*(1+$AE$4)^A18 -> 0 | AF18: =AE18*B18 -> 0 | AG18: =Results_MF!U16 -> 0 | AH18: =AG18*$AH$4 -> 0 | AI18: =AH18*(1+$AI$4)^A18 -> 0 | AJ18: =AI18*B18 -> 0 | AR18: =Results_MF!AC17 -> 0 | AS18: =AR18*$AS$4 -> 0 | AT18: =AS18*(1+$AT$4)^A18 -> 0 | AU18: =AT18*B18 -> 0 | AV18: =Results_MF!AD17 -> 0 | AW18: =AV18*$AW$4 -> 0 | AX18: =AW18*(1+$AX$4)^A18 -> 0 | AY18: =AX18*B18 -> 0 | BJ18: =Results_MF!AO16 -> 0 | BK18: =BJ18*$BK$4 -> 0 | BL18: =BK18*(1+$BL$4)^A18 -> 0 | BM18: =BL18*B18 -> 0 | BN18: =Results_MF!AP16 -> 0 | BO18: =BN18*$BO$4 -> 0 | BP18: =BO18*(1+$BP$4)^A18 -> 0 | BQ18: =BP18*B18 -> 0 | BV18: =Results_MF!AU16 -> 0 | BW18: =BV18*$BW$4 -> 0 | BX18: =BW18*(1+$BX$4)^A18 -> 0 | BY18: =BX18*B18 -> 0 | BZ18: =Results_MF!AV16 -> 0 | CA18: =BZ18*$CA$4 -> 0 | CB18: =CA18*(1+$CB$4)^M18 -> 0 | CC18: =CB18*B18 -> 0 | CE18: =Results_MF!AX16 -> 0 | CF18: =CE18*$CF$4 -> 0 | CG18: =CF18*(1+$CG$4)^A18 -> 0 | CH18: =CG18*B18 -> 0 | CI18: =Results_MF!AY16 -> 0 | CJ18: =CI18*$CJ$4 -> 0 | CK18: =CJ18*(1+$CK$4)^A18 -> 0 | CL18: =CK18*B18 -> 0 | CX18: =Results_MF!BK16 -> 0 | CY18: =Results_MF!BL16 -> 0 | CZ18: =Results_MF!BM16 -> 0 | DA18: =IF(CY18<0,$DA$4*(-CY18),0) -> 0 | DB18: =DA18*(1+$DB$4)^R18 -> 0 | DC18: =DB18*B18 -> 0 | DD18: =IF(CZ18<0,0,CZ18*$DD$4) -> 0 | DE18: =DD18*(1+$DE$4)^A18 -> 0 | DF18: =DE18*B18 -> 0 | DK18: =Results_MF!BR16 -> 0 | DL18: =DK18*$DL$4 -> 0 | DM18: =DL18*(1+$DM$4)^A18 -> 0 | DN18: =DM18*B18 -> 0
A19: =Results_MF!A17-$A$4 -> 13 | B19: =1/((1+$B$4)^(A19)) -> 0.60057409 | C19: =Results_MF!C17 -> 32236.8 | D19: =C19*B19 -> 19360.587 | E19: =Results_MF!K17 -> 0 | F19: =E19*$F$4 -> 0 | G19: =F19*(1+$G$4)^A19 -> 0 | H19: =G19*B19 -> 0 | I19: =Results_MF!L17 -> 0 | J19: =I19*$J$4 -> 0 | K19: =J19*(1+$K$4)^A19 -> 0 | L19: =K19*B19 -> 0 | M19: =Results_MF!M17 -> 0 | N19: =M19*$N$4 -> 0 | O19: =N19*(1+$O$4)^A19 -> 0 | P19: =O19*B19 -> 0 | Q19: 0 | W19: =Results_MF!Q17 -> 0 | X19: =W19*$X$4 -> 0 | Y19: =X19*(1+$Y$4)^A19 -> 0 | Z19: =Y19*B19 -> 0 | AC19: =Results_MF!T17 -> 0 | AD19: =AC19*$AD$4 -> 0 | AE19: =AD19*(1+$AE$4)^A19 -> 0 | AF19: =AE19*B19 -> 0 | AG19: =Results_MF!U17 -> 0 | AH19: =AG19*$AH$4 -> 0 | AI19: =AH19*(1+$AI$4)^A19 -> 0 | AJ19: =AI19*B19 -> 0 | AR19: =Results_MF!AC18 -> 0 | AS19: =AR19*$AS$4 -> 0 | AT19: =AS19*(1+$AT$4)^A19 -> 0 | AU19: =AT19*B19 -> 0 | AV19: =Results_MF!AD18 -> 0 | AW19: =AV19*$AW$4 -> 0 | AX19: =AW19*(1+$AX$4)^A19 -> 0 | AY19: =AX19*B19 -> 0 | BJ19: =Results_MF!AO17 -> 0 | BK19: =BJ19*$BK$4 -> 0 | BL19: =BK19*(1+$BL$4)^A19 -> 0 | BM19: =BL19*B19 -> 0 | BN19: =Results_MF!AP17 -> 0 | BO19: =BN19*$BO$4 -> 0 | BP19: =BO19*(1+$BP$4)^A19 -> 0 | BQ19: =BP19*B19 -> 0 | BV19: =Results_MF!AU17 -> 0 | BW19: =BV19*$BW$4 -> 0 | BX19: =BW19*(1+$BX$4)^A19 -> 0 | BY19: =BX19*B19 -> 0 | BZ19: =Results_MF!AV17 -> 0 | CA19: =BZ19*$CA$4 -> 0 | CB19: =CA19*(1+$CB$4)^M19 -> 0 | CC19: =CB19*B19 -> 0 | CE19: =Results_MF!AX17 -> 0 | CF19: =CE19*$CF$4 -> 0 | CG19: =CF19*(1+$CG$4)^A19 -> 0 | CH19: =CG19*B19 -> 0 | CI19: =Results_MF!AY17 -> 0 | CJ19: =CI19*$CJ$4 -> 0 | CK19: =CJ19*(1+$CK$4)^A19 -> 0 | CL19: =CK19*B19 -> 0 | CX19: =Results_MF!BK17 -> 0 | CY19: =Results_MF!BL17 -> 0 | CZ19: =Results_MF!BM17 -> 0 | DA19: =IF(CY19<0,$DA$4*(-CY19),0) -> 0 | DB19: =DA19*(1+$DB$4)^R19 -> 0 | DC19: =DB19*B19 -> 0 | DD19: =IF(CZ19<0,0,CZ19*$DD$4) -> 0 | DE19: =DD19*(1+$DE$4)^A19 -> 0 | DF19: =DE19*B19 -> 0 | DK19: =Results_MF!BR17 -> 0 | DL19: =DK19*$DL$4 -> 0 | DM19: =DL19*(1+$DM$4)^A19 -> 0 | DN19: =DM19*B19 -> 0
A20: =Results_MF!A18-$A$4 -> 14 | B20: =1/((1+$B$4)^(A20)) -> 0.57747508 | C20: =Results_MF!C18 -> 32236.8 | D20: =C20*B20 -> 18615.949 | E20: =Results_MF!K18 -> 0 | F20: =E20*$F$4 -> 0 | G20: =F20*(1+$G$4)^A20 -> 0 | H20: =G20*B20 -> 0 | I20: =Results_MF!L18 -> 0 | J20: =I20*$J$4 -> 0 | K20: =J20*(1+$K$4)^A20 -> 0 | L20: =K20*B20 -> 0 | M20: =Results_MF!M18 -> 0 | N20: =M20*$N$4 -> 0 | O20: =N20*(1+$O$4)^A20 -> 0 | P20: =O20*B20 -> 0 | Q20: 0 | W20: =Results_MF!Q18 -> 0 | X20: =W20*$X$4 -> 0 | Y20: =X20*(1+$Y$4)^A20 -> 0 | Z20: =Y20*B20 -> 0 | AC20: =Results_MF!T18 -> 0 | AD20: =AC20*$AD$4 -> 0 | AE20: =AD20*(1+$AE$4)^A20 -> 0 | AF20: =AE20*B20 -> 0 | AG20: =Results_MF!U18 -> 0 | AH20: =AG20*$AH$4 -> 0 | AI20: =AH20*(1+$AI$4)^A20 -> 0 | AJ20: =AI20*B20 -> 0 | AR20: =Results_MF!AC19 -> 0 | AS20: =AR20*$AS$4 -> 0 | AT20: =AS20*(1+$AT$4)^A20 -> 0 | AU20: =AT20*B20 -> 0 | AV20: =Results_MF!AD19 -> 0 | AW20: =AV20*$AW$4 -> 0 | AX20: =AW20*(1+$AX$4)^A20 -> 0 | AY20: =AX20*B20 -> 0 | BJ20: =Results_MF!AO18 -> 0 | BK20: =BJ20*$BK$4 -> 0 | BL20: =BK20*(1+$BL$4)^A20 -> 0 | BM20: =BL20*B20 -> 0 | BN20: =Results_MF!AP18 -> 0 | BO20: =BN20*$BO$4 -> 0 | BP20: =BO20*(1+$BP$4)^A20 -> 0 | BQ20: =BP20*B20 -> 0 | BV20: =Results_MF!AU18 -> 0 | BW20: =BV20*$BW$4 -> 0 | BX20: =BW20*(1+$BX$4)^A20 -> 0 | BY20: =BX20*B20 -> 0 | BZ20: =Results_MF!AV18 -> 0 | CA20: =BZ20*$CA$4 -> 0 | CB20: =CA20*(1+$CB$4)^M20 -> 0 | CC20: =CB20*B20 -> 0 | CE20: =Results_MF!AX18 -> 0 | CF20: =CE20*$CF$4 -> 0 | CG20: =CF20*(1+$CG$4)^A20 -> 0 | CH20: =CG20*B20 -> 0 | CI20: =Results_MF!AY18 -> 0 | CJ20: =CI20*$CJ$4 -> 0 | CK20: =CJ20*(1+$CK$4)^A20 -> 0 | CL20: =CK20*B20 -> 0 | CX20: =Results_MF!BK18 -> 0 | CY20: =Results_MF!BL18 -> 0 | CZ20: =Results_MF!BM18 -> 0 | DA20: =IF(CY20<0,$DA$4*(-CY20),0) -> 0 | DB20: =DA20*(1+$DB$4)^R20 -> 0 | DC20: =DB20*B20 -> 0 | DD20: =IF(CZ20<0,0,CZ20*$DD$4) -> 0 | DE20: =DD20*(1+$DE$4)^A20 -> 0 | DF20: =DE20*B20 -> 0 | DK20: =Results_MF!BR18 -> 0 | DL20: =DK20*$DL$4 -> 0 | DM20: =DL20*(1+$DM$4)^A20 -> 0 | DN20: =DM20*B20 -> 0
A21: =Results_MF!A19-$A$4 -> 15 | B21: =1/((1+$B$4)^(A21)) -> 0.5552645 | C21: =Results_MF!C19 -> 32236.8 | D21: =C21*B21 -> 17899.951 | E21: =Results_MF!K19 -> 0 | F21: =E21*$F$4 -> 0 | G21: =F21*(1+$G$4)^A21 -> 0 | H21: =G21*B21 -> 0 | I21: =Results_MF!L19 -> 0 | J21: =I21*$J$4 -> 0 | K21: =J21*(1+$K$4)^A21 -> 0 | L21: =K21*B21 -> 0 | M21: =Results_MF!M19 -> 0 | N21: =M21*$N$4 -> 0 | O21: =N21*(1+$O$4)^A21 -> 0 | P21: =O21*B21 -> 0 | Q21: 0 | W21: =Results_MF!Q19 -> 0 | X21: =W21*$X$4 -> 0 | Y21: =X21*(1+$Y$4)^A21 -> 0 | Z21: =Y21*B21 -> 0 | AC21: =Results_MF!T19 -> 0 | AD21: =AC21*$AD$4 -> 0 | AE21: =AD21*(1+$AE$4)^A21 -> 0 | AF21: =AE21*B21 -> 0 | AG21: =Results_MF!U19 -> 0 | AH21: =AG21*$AH$4 -> 0 | AI21: =AH21*(1+$AI$4)^A21 -> 0 | AJ21: =AI21*B21 -> 0 | AR21: =Results_MF!AC20 -> 0 | AS21: =AR21*$AS$4 -> 0 | AT21: =AS21*(1+$AT$4)^A21 -> 0 | AU21: =AT21*B21 -> 0 | AV21: =Results_MF!AD20 -> 0 | AW21: =AV21*$AW$4 -> 0 | AX21: =AW21*(1+$AX$4)^A21 -> 0 | AY21: =AX21*B21 -> 0 | BJ21: =Results_MF!AO19 -> 0 | BK21: =BJ21*$BK$4 -> 0 | BL21: =BK21*(1+$BL$4)^A21 -> 0 | BM21: =BL21*B21 -> 0 | BN21: =Results_MF!AP19 -> 0 | BO21: =BN21*$BO$4 -> 0 | BP21: =BO21*(1+$BP$4)^A21 -> 0 | BQ21: =BP21*B21 -> 0 | BV21: =Results_MF!AU19 -> 0 | BW21: =BV21*$BW$4 -> 0 | BX21: =BW21*(1+$BX$4)^A21 -> 0 | BY21: =BX21*B21 -> 0 | BZ21: =Results_MF!AV19 -> 0 | CA21: =BZ21*$CA$4 -> 0 | CB21: =CA21*(1+$CB$4)^M21 -> 0 | CC21: =CB21*B21 -> 0 | CE21: =Results_MF!AX19 -> 0 | CF21: =CE21*$CF$4 -> 0 | CG21: =CF21*(1+$CG$4)^A21 -> 0 | CH21: =CG21*B21 -> 0 | CI21: =Results_MF!AY19 -> 0 | CJ21: =CI21*$CJ$4 -> 0 | CK21: =CJ21*(1+$CK$4)^A21 -> 0 | CL21: =CK21*B21 -> 0 | CX21: =Results_MF!BK19 -> 0 | CY21: =Results_MF!BL19 -> 0 | CZ21: =Results_MF!BM19 -> 0 | DA21: =IF(CY21<0,$DA$4*(-CY21),0) -> 0 | DB21: =DA21*(1+$DB$4)^R21 -> 0 | DC21: =DB21*B21 -> 0 | DD21: =IF(CZ21<0,0,CZ21*$DD$4) -> 0 | DE21: =DD21*(1+$DE$4)^A21 -> 0 | DF21: =DE21*B21 -> 0 | DK21: =Results_MF!BR19 -> 0 | DL21: =DK21*$DL$4 -> 0 | DM21: =DL21*(1+$DM$4)^A21 -> 0 | DN21: =DM21*B21 -> 0
A22: =Results_MF!A20-$A$4 -> 16 | B22: =1/((1+$B$4)^(A22)) -> 0.53390818 | C22: =Results_MF!C20 -> 32236.8 | D22: =C22*B22 -> 17211.491 | E22: =Results_MF!K20 -> 0 | F22: =E22*$F$4 -> 0 | G22: =F22*(1+$G$4)^A22 -> 0 | H22: =G22*B22 -> 0 | I22: =Results_MF!L20 -> 0 | J22: =I22*$J$4 -> 0 | K22: =J22*(1+$K$4)^A22 -> 0 | L22: =K22*B22 -> 0 | M22: =Results_MF!M20 -> 0 | N22: =M22*$N$4 -> 0 | O22: =N22*(1+$O$4)^A22 -> 0 | P22: =O22*B22 -> 0 | Q22: 0 | W22: =Results_MF!Q20 -> 0 | X22: =W22*$X$4 -> 0 | Y22: =X22*(1+$Y$4)^A22 -> 0 | Z22: =Y22*B22 -> 0 | AC22: =Results_MF!T20 -> 0 | AD22: =AC22*$AD$4 -> 0 | AE22: =AD22*(1+$AE$4)^A22 -> 0 | AF22: =AE22*B22 -> 0 | AG22: =Results_MF!U20 -> 0 | AH22: =AG22*$AH$4 -> 0 | AI22: =AH22*(1+$AI$4)^A22 -> 0 | AJ22: =AI22*B22 -> 0 | AR22: =Results_MF!AC21 -> 0 | AS22: =AR22*$AS$4 -> 0 | AT22: =AS22*(1+$AT$4)^A22 -> 0 | AU22: =AT22*B22 -> 0 | AV22: =Results_MF!AD21 -> 0 | AW22: =AV22*$AW$4 -> 0 | AX22: =AW22*(1+$AX$4)^A22 -> 0 | AY22: =AX22*B22 -> 0 | BJ22: =Results_MF!AO20 -> 0 | BK22: =BJ22*$BK$4 -> 0 | BL22: =BK22*(1+$BL$4)^A22 -> 0 | BM22: =BL22*B22 -> 0 | BN22: =Results_MF!AP20 -> 0 | BO22: =BN22*$BO$4 -> 0 | BP22: =BO22*(1+$BP$4)^A22 -> 0 | BQ22: =BP22*B22 -> 0 | BV22: =Results_MF!AU20 -> 0 | BW22: =BV22*$BW$4 -> 0 | BX22: =BW22*(1+$BX$4)^A22 -> 0 | BY22: =BX22*B22 -> 0 | BZ22: =Results_MF!AV20 -> 0 | CA22: =BZ22*$CA$4 -> 0 | CB22: =CA22*(1+$CB$4)^M22 -> 0 | CC22: =CB22*B22 -> 0 | CE22: =Results_MF!AX20 -> 0 | CF22: =CE22*$CF$4 -> 0 | CG22: =CF22*(1+$CG$4)^A22 -> 0 | CH22: =CG22*B22 -> 0 | CI22: =Results_MF!AY20 -> 0 | CJ22: =CI22*$CJ$4 -> 0 | CK22: =CJ22*(1+$CK$4)^A22 -> 0 | CL22: =CK22*B22 -> 0 | CX22: =Results_MF!BK20 -> 0 | CY22: =Results_MF!BL20 -> 0 | CZ22: =Results_MF!BM20 -> 0 | DA22: =IF(CY22<0,$DA$4*(-CY22),0) -> 0 | DB22: =DA22*(1+$DB$4)^R22 -> 0 | DC22: =DB22*B22 -> 0 | DD22: =IF(CZ22<0,0,CZ22*$DD$4) -> 0 | DE22: =DD22*(1+$DE$4)^A22 -> 0 | DF22: =DE22*B22 -> 0 | DK22: =Results_MF!BR20 -> 0 | DL22: =DK22*$DL$4 -> 0 | DM22: =DL22*(1+$DM$4)^A22 -> 0 | DN22: =DM22*B22 -> 0
A23: =Results_MF!A21-$A$4 -> 17 | B23: =1/((1+$B$4)^(A23)) -> 0.51337325 | C23: =Results_MF!C21 -> 32236.8 | D23: =C23*B23 -> 16549.511 | E23: =Results_MF!K21 -> 0 | F23: =E23*$F$4 -> 0 | G23: =F23*(1+$G$4)^A23 -> 0 | H23: =G23*B23 -> 0 | I23: =Results_MF!L21 -> 0 | J23: =I23*$J$4 -> 0 | K23: =J23*(1+$K$4)^A23 -> 0 | L23: =K23*B23 -> 0 | M23: =Results_MF!M21 -> 0 | N23: =M23*$N$4 -> 0 | O23: =N23*(1+$O$4)^A23 -> 0 | P23: =O23*B23 -> 0 | Q23: 0 | W23: =Results_MF!Q21 -> 0 | X23: =W23*$X$4 -> 0 | Y23: =X23*(1+$Y$4)^A23 -> 0 | Z23: =Y23*B23 -> 0 | AC23: =Results_MF!T21 -> 0 | AD23: =AC23*$AD$4 -> 0 | AE23: =AD23*(1+$AE$4)^A23 -> 0 | AF23: =AE23*B23 -> 0 | AG23: =Results_MF!U21 -> 0 | AH23: =AG23*$AH$4 -> 0 | AI23: =AH23*(1+$AI$4)^A23 -> 0 | AJ23: =AI23*B23 -> 0 | AR23: =Results_MF!AC22 -> 0 | AS23: =AR23*$AS$4 -> 0 | AT23: =AS23*(1+$AT$4)^A23 -> 0 | AU23: =AT23*B23 -> 0 | AV23: =Results_MF!AD22 -> 0 | AW23: =AV23*$AW$4 -> 0 | AX23: =AW23*(1+$AX$4)^A23 -> 0 | AY23: =AX23*B23 -> 0 | BJ23: =Results_MF!AO21 -> 0 | BK23: =BJ23*$BK$4 -> 0 | BL23: =BK23*(1+$BL$4)^A23 -> 0 | BM23: =BL23*B23 -> 0 | BN23: =Results_MF!AP21 -> 0 | BO23: =BN23*$BO$4 -> 0 | BP23: =BO23*(1+$BP$4)^A23 -> 0 | BQ23: =BP23*B23 -> 0 | BV23: =Results_MF!AU21 -> 0 | BW23: =BV23*$BW$4 -> 0 | BX23: =BW23*(1+$BX$4)^A23 -> 0 | BY23: =BX23*B23 -> 0 | BZ23: =Results_MF!AV21 -> 0 | CA23: =BZ23*$CA$4 -> 0 | CB23: =CA23*(1+$CB$4)^M23 -> 0 | CC23: =CB23*B23 -> 0 | CE23: =Results_MF!AX21 -> 0 | CF23: =CE23*$CF$4 -> 0 | CG23: =CF23*(1+$CG$4)^A23 -> 0 | CH23: =CG23*B23 -> 0 | CI23: =Results_MF!AY21 -> 0 | CJ23: =CI23*$CJ$4 -> 0 | CK23: =CJ23*(1+$CK$4)^A23 -> 0 | CL23: =CK23*B23 -> 0 | CX23: =Results_MF!BK21 -> 0 | CY23: =Results_MF!BL21 -> 0 | CZ23: =Results_MF!BM21 -> 0 | DA23: =IF(CY23<0,$DA$4*(-CY23),0) -> 0 | DB23: =DA23*(1+$DB$4)^R23 -> 0 | DC23: =DB23*B23 -> 0 | DD23: =IF(CZ23<0,0,CZ23*$DD$4) -> 0 | DE23: =DD23*(1+$DE$4)^A23 -> 0 | DF23: =DE23*B23 -> 0 | DK23: =Results_MF!BR21 -> 0 | DL23: =DK23*$DL$4 -> 0 | DM23: =DL23*(1+$DM$4)^A23 -> 0 | DN23: =DM23*B23 -> 0
A24: =Results_MF!A22-$A$4 -> 18 | B24: =1/((1+$B$4)^(A24)) -> 0.49362812 | C24: =Results_MF!C22 -> 32236.8 | D24: =C24*B24 -> 15912.991 | E24: =Results_MF!K22 -> 0 | F24: =E24*$F$4 -> 0 | G24: =F24*(1+$G$4)^A24 -> 0 | H24: =G24*B24 -> 0 | I24: =Results_MF!L22 -> 0 | J24: =I24*$J$4 -> 0 | K24: =J24*(1+$K$4)^A24 -> 0 | L24: =K24*B24 -> 0 | M24: =Results_MF!M22 -> 0 | N24: =M24*$N$4 -> 0 | O24: =N24*(1+$O$4)^A24 -> 0 | P24: =O24*B24 -> 0 | Q24: 0 | W24: =Results_MF!Q22 -> 0 | X24: =W24*$X$4 -> 0 | Y24: =X24*(1+$Y$4)^A24 -> 0 | Z24: =Y24*B24 -> 0 | AC24: =Results_MF!T22 -> 0 | AD24: =AC24*$AD$4 -> 0 | AE24: =AD24*(1+$AE$4)^A24 -> 0 | AF24: =AE24*B24 -> 0 | AG24: =Results_MF!U22 -> 0 | AH24: =AG24*$AH$4 -> 0 | AI24: =AH24*(1+$AI$4)^A24 -> 0 | AJ24: =AI24*B24 -> 0 | AR24: =Results_MF!AC23 -> 0 | AS24: =AR24*$AS$4 -> 0 | AT24: =AS24*(1+$AT$4)^A24 -> 0 | AU24: =AT24*B24 -> 0 | AV24: =Results_MF!AD23 -> 0 | AW24: =AV24*$AW$4 -> 0 | AX24: =AW24*(1+$AX$4)^A24 -> 0 | AY24: =AX24*B24 -> 0 | BJ24: =Results_MF!AO22 -> 0 | BK24: =BJ24*$BK$4 -> 0 | BL24: =BK24*(1+$BL$4)^A24 -> 0 | BM24: =BL24*B24 -> 0 | BN24: =Results_MF!AP22 -> 0 | BO24: =BN24*$BO$4 -> 0 | BP24: =BO24*(1+$BP$4)^A24 -> 0 | BQ24: =BP24*B24 -> 0 | BV24: =Results_MF!AU22 -> 0 | BW24: =BV24*$BW$4 -> 0 | BX24: =BW24*(1+$BX$4)^A24 -> 0 | BY24: =BX24*B24 -> 0 | BZ24: =Results_MF!AV22 -> 0 | CA24: =BZ24*$CA$4 -> 0 | CB24: =CA24*(1+$CB$4)^M24 -> 0 | CC24: =CB24*B24 -> 0 | CE24: =Results_MF!AX22 -> 0 | CF24: =CE24*$CF$4 -> 0 | CG24: =CF24*(1+$CG$4)^A24 -> 0 | CH24: =CG24*B24 -> 0 | CI24: =Results_MF!AY22 -> 0 | CJ24: =CI24*$CJ$4 -> 0 | CK24: =CJ24*(1+$CK$4)^A24 -> 0 | CL24: =CK24*B24 -> 0 | CX24: =Results_MF!BK22 -> 0 | CY24: =Results_MF!BL22 -> 0 | CZ24: =Results_MF!BM22 -> 0 | DA24: =IF(CY24<0,$DA$4*(-CY24),0) -> 0 | DB24: =DA24*(1+$DB$4)^R24 -> 0 | DC24: =DB24*B24 -> 0 | DD24: =IF(CZ24<0,0,CZ24*$DD$4) -> 0 | DE24: =DD24*(1+$DE$4)^A24 -> 0 | DF24: =DE24*B24 -> 0 | DK24: =Results_MF!BR22 -> 0 | DL24: =DK24*$DL$4 -> 0 | DM24: =DL24*(1+$DM$4)^A24 -> 0 | DN24: =DM24*B24 -> 0
A25: =Results_MF!A23-$A$4 -> 19 | B25: =1/((1+$B$4)^(A25)) -> 0.47464242 | C25: =Results_MF!C23 -> 32236.8 | D25: =C25*B25 -> 15300.953 | E25: =Results_MF!K23 -> 0 | F25: =E25*$F$4 -> 0 | G25: =F25*(1+$G$4)^A25 -> 0 | H25: =G25*B25 -> 0 | I25: =Results_MF!L23 -> 0 | J25: =I25*$J$4 -> 0 | K25: =J25*(1+$K$4)^A25 -> 0 | L25: =K25*B25 -> 0 | M25: =Results_MF!M23 -> 0 | N25: =M25*$N$4 -> 0 | O25: =N25*(1+$O$4)^A25 -> 0 | P25: =O25*B25 -> 0 | Q25: 0 | W25: =Results_MF!Q23 -> 0 | X25: =W25*$X$4 -> 0 | Y25: =X25*(1+$Y$4)^A25 -> 0 | Z25: =Y25*B25 -> 0 | AC25: =Results_MF!T23 -> 0 | AD25: =AC25*$AD$4 -> 0 | AE25: =AD25*(1+$AE$4)^A25 -> 0 | AF25: =AE25*B25 -> 0 | AG25: =Results_MF!U23 -> 0 | AH25: =AG25*$AH$4 -> 0 | AI25: =AH25*(1+$AI$4)^A25 -> 0 | AJ25: =AI25*B25 -> 0 | AR25: =Results_MF!AC24 -> 0 | AS25: =AR25*$AS$4 -> 0 | AT25: =AS25*(1+$AT$4)^A25 -> 0 | AU25: =AT25*B25 -> 0 | AV25: =Results_MF!AD24 -> 0 | AW25: =AV25*$AW$4 -> 0 | AX25: =AW25*(1+$AX$4)^A25 -> 0 | AY25: =AX25*B25 -> 0 | BJ25: =Results_MF!AO23 -> 0 | BK25: =BJ25*$BK$4 -> 0 | BL25: =BK25*(1+$BL$4)^A25 -> 0 | BM25: =BL25*B25 -> 0 | BN25: =Results_MF!AP23 -> 0 | BO25: =BN25*$BO$4 -> 0 | BP25: =BO25*(1+$BP$4)^A25 -> 0 | BQ25: =BP25*B25 -> 0 | BV25: =Results_MF!AU23 -> 0 | BW25: =BV25*$BW$4 -> 0 | BX25: =BW25*(1+$BX$4)^A25 -> 0 | BY25: =BX25*B25 -> 0 | BZ25: =Results_MF!AV23 -> 0 | CA25: =BZ25*$CA$4 -> 0 | CB25: =CA25*(1+$CB$4)^M25 -> 0 | CC25: =CB25*B25 -> 0 | CE25: =Results_MF!AX23 -> 0 | CF25: =CE25*$CF$4 -> 0 | CG25: =CF25*(1+$CG$4)^A25 -> 0 | CH25: =CG25*B25 -> 0 | CI25: =Results_MF!AY23 -> 0 | CJ25: =CI25*$CJ$4 -> 0 | CK25: =CJ25*(1+$CK$4)^A25 -> 0 | CL25: =CK25*B25 -> 0 | CX25: =Results_MF!BK23 -> 0 | CY25: =Results_MF!BL23 -> 0 | CZ25: =Results_MF!BM23 -> 0 | DA25: =IF(CY25<0,$DA$4*(-CY25),0) -> 0 | DB25: =DA25*(1+$DB$4)^R25 -> 0 | DC25: =DB25*B25 -> 0 | DD25: =IF(CZ25<0,0,CZ25*$DD$4) -> 0 | DE25: =DD25*(1+$DE$4)^A25 -> 0 | DF25: =DE25*B25 -> 0 | DK25: =Results_MF!BR23 -> 0 | DL25: =DK25*$DL$4 -> 0 | DM25: =DL25*(1+$DM$4)^A25 -> 0 | DN25: =DM25*B25 -> 0
A26: =Results_MF!A24-$A$4 -> 20 | B26: =1/((1+$B$4)^(A26)) -> 0.45638695 | C26: =Results_MF!C24 -> 32236.8 | D26: =C26*B26 -> 14712.455 | E26: =Results_MF!K24 -> 0 | F26: =E26*$F$4 -> 0 | G26: =F26*(1+$G$4)^A26 -> 0 | H26: =G26*B26 -> 0 | I26: =Results_MF!L24 -> 0 | J26: =I26*$J$4 -> 0 | K26: =J26*(1+$K$4)^A26 -> 0 | L26: =K26*B26 -> 0 | M26: =Results_MF!M24 -> 0 | N26: =M26*$N$4 -> 0 | O26: =N26*(1+$O$4)^A26 -> 0 | P26: =O26*B26 -> 0 | Q26: 0 | W26: =Results_MF!Q24 -> 0 | X26: =W26*$X$4 -> 0 | Y26: =X26*(1+$Y$4)^A26 -> 0 | Z26: =Y26*B26 -> 0 | AC26: =Results_MF!T24 -> 0 | AD26: =AC26*$AD$4 -> 0 | AE26: =AD26*(1+$AE$4)^A26 -> 0 | AF26: =AE26*B26 -> 0 | AG26: =Results_MF!U24 -> 0 | AH26: =AG26*$AH$4 -> 0 | AI26: =AH26*(1+$AI$4)^A26 -> 0 | AJ26: =AI26*B26 -> 0 | AR26: =Results_MF!AC25 -> 0 | AS26: =AR26*$AS$4 -> 0 | AT26: =AS26*(1+$AT$4)^A26 -> 0 | AU26: =AT26*B26 -> 0 | AV26: =Results_MF!AD25 -> 0 | AW26: =AV26*$AW$4 -> 0 | AX26: =AW26*(1+$AX$4)^A26 -> 0 | AY26: =AX26*B26 -> 0 | BJ26: =Results_MF!AO24 -> 0 | BK26: =BJ26*$BK$4 -> 0 | BL26: =BK26*(1+$BL$4)^A26 -> 0 | BM26: =BL26*B26 -> 0 | BN26: =Results_MF!AP24 -> 0 | BO26: =BN26*$BO$4 -> 0 | BP26: =BO26*(1+$BP$4)^A26 -> 0 | BQ26: =BP26*B26 -> 0 | BV26: =Results_MF!AU24 -> 0 | BW26: =BV26*$BW$4 -> 0 | BX26: =BW26*(1+$BX$4)^A26 -> 0 | BY26: =BX26*B26 -> 0 | BZ26: =Results_MF!AV24 -> 0 | CA26: =BZ26*$CA$4 -> 0 | CB26: =CA26*(1+$CB$4)^M26 -> 0 | CC26: =CB26*B26 -> 0 | CE26: =Results_MF!AX24 -> 0 | CF26: =CE26*$CF$4 -> 0 | CG26: =CF26*(1+$CG$4)^A26 -> 0 | CH26: =CG26*B26 -> 0 | CI26: =Results_MF!AY24 -> 0 | CJ26: =CI26*$CJ$4 -> 0 | CK26: =CJ26*(1+$CK$4)^A26 -> 0 | CL26: =CK26*B26 -> 0 | CX26: =Results_MF!BK24 -> 0 | CY26: =Results_MF!BL24 -> 0 | CZ26: =Results_MF!BM24 -> 0 | DA26: =IF(CY26<0,$DA$4*(-CY26),0) -> 0 | DB26: =DA26*(1+$DB$4)^R26 -> 0 | DC26: =DB26*B26 -> 0 | DD26: =IF(CZ26<0,0,CZ26*$DD$4) -> 0 | DE26: =DD26*(1+$DE$4)^A26 -> 0 | DF26: =DE26*B26 -> 0 | DK26: =Results_MF!BR24 -> 0 | DL26: =DK26*$DL$4 -> 0 | DM26: =DL26*(1+$DM$4)^A26 -> 0 | DN26: =DM26*B26 -> 0
... A106: =Results_MF!A104-$A$4 -> 100 | B106: =1/((1+$B$4)^(A106)) -> 0.01980004 | C106: =Results_MF!C104 -> 14016 | D106: =C106*B106 -> 277.51736 | E106: =Results_MF!K104 -> 0 | F106: =E106*$F$4 -> 0 | G106: =F106*(1+$G$4)^A106 -> 0 | H106: =G106*B106 -> 0 | I106: =Results_MF!L104 -> 0 | J106: =I106*$J$4 -> 0 | K106: =J106*(1+$K$4)^A106 -> 0 | L106: =K106*B106 -> 0 | M106: =Results_MF!M104 -> 0 | N106: =M106*$N$4 -> 0 | O106: =N106*(1+$O$4)^A106 -> 0 | P106: =O106*B106 -> 0 | Q106: 0 | W106: =Results_MF!Q104 -> 0 | X106: =W106*$X$4 -> 0 | Y106: =X106*(1+$Y$4)^A106 -> 0 | Z106: =Y106*B106 -> 0 | AC106: =Results_MF!T104 -> 0 | AD106: =AC106*$AD$4 -> 0 | AE106: =AD106*(1+$AE$4)^A106 -> 0 | AF106: =AE106*B106 -> 0 | AG106: =Results_MF!U104 -> 0 | AH106: =AG106*$AH$4 -> 0 | AI106: =AH106*(1+$AI$4)^A106 -> 0 | AJ106: =AI106*B106 -> 0 | AR106: =Results_MF!AC105 -> 0 | AS106: =AR106*$AS$4 -> 0 | AT106: =AS106*(1+$AT$4)^A106 -> 0 | AU106: =AT106*B106 -> 0 | AV106: =Results_MF!AD105 -> 0 | AW106: =AV106*$AW$4 -> 0 | AX106: =AW106*(1+$AX$4)^A106 -> 0 | AY106: =AX106*B106 -> 0 | BJ106: =Results_MF!AO104 -> 0 | BK106: =BJ106*$BK$4 -> 0 | BL106: =BK106*(1+$BL$4)^A106 -> 0 | BM106: =BL106*B106 -> 0 | BN106: =Results_MF!AP104 -> 0 | BO106: =BN106*$BO$4 -> 0 | BP106: =BO106*(1+$BP$4)^A106 -> 0 | BQ106: =BP106*B106 -> 0 | BV106: =Results_MF!AU104 -> 0 | BW106: =BV106*$BW$4 -> 0 | BX106: =BW106*(1+$BX$4)^A106 -> 0 | BY106: =BX106*B106 -> 0 | BZ106: =Results_MF!AV104 -> 0 | CA106: =BZ106*$CA$4 -> 0 | CB106: =CA106*(1+$CB$4)^M106 -> 0 | CC106: =CB106*B106 -> 0 | CE106: =Results_MF!AX104 -> 0 | CF106: =CE106*$CF$4 -> 0 | CG106: =CF106*(1+$CG$4)^A106 -> 0 | CH106: =CG106*B106 -> 0 | CI106: =Results_MF!AY104 -> 0 | CJ106: =CI106*$CJ$4 -> 0 | CK106: =CJ106*(1+$CK$4)^A106 -> 0 | CL106: =CK106*B106 -> 0 | CX106: =Results_MF!BK104 -> 0 | CY106: =Results_MF!BL104 -> 0 | CZ106: =Results_MF!BM104 -> 0 | DA106: =IF(CY106<0,$DA$4*(-CY106),0) -> 0 | DB106: =DA106*(1+$DB$4)^R106 -> 0 | DC106: =DB106*B106 -> 0 | DD106: =IF(CZ106<0,0,CZ106*$DD$4) -> 0 | DE106: =DD106*(1+$DE$4)^A106 -> 0 | DF106: =DE106*B106 -> 0 | DK106: =Results_MF!BR104 -> 0 | DL106: =DK106*$DL$4 -> 0 | DM106: =DL106*(1+$DM$4)^A106 -> 0 | DN106: =DM106*B106 -> 0
A108: sum | C108: =SUM(C6:C106) -> 2508864 | D108: =SUM(D6:D106) -> 786184.88 | F108: =SUM(F6:F106) -> 0 | G108: =SUM(G6:G106) -> 0 | H108: =SUM(H6:H106) -> 0 | J108: =SUM(J6:J106) -> 0 | K108: =SUM(K6:K106) -> 0 | L108: =SUM(L6:L106) -> 0 | M108: =SUM(M6:M106) -> 0 | N108: =SUM(N6:N106) -> 0 | O108: =SUM(O6:O106) -> 0 | P108: =SUM(P6:P106) -> 0 | X108: =SUM(X6:X106) -> 0 | Y108: =SUM(Y6:Y106) -> 0 | Z108: =SUM(Z6:Z106) -> 0 | AD108: =SUM(AD6:AD106) -> 0 | AE108: =SUM(AE6:AE106) -> 0 | AF108: =SUM(AF6:AF106) -> 0 | AH108: =SUM(AH6:AH106) -> 0 | AI108: =SUM(AI6:AI106) -> 0 | AJ108: =SUM(AJ6:AJ106) -> 0 | AS108: =SUM(AS6:AS106) -> 0 | AT108: =SUM(AT6:AT106) -> 0 | AU108: =SUM(AU6:AU106) -> 0 | AW108: =SUM(AW6:AW106) -> 0 | AX108: =SUM(AX6:AX106) -> 0 | AY108: =SUM(AY6:AY106) -> 0 | BK108: =SUM(BK6:BK106) -> 0 | BL108: =SUM(BL6:BL106) -> 0 | BM108: =SUM(BM6:BM106) -> 0 | BO108: =SUM(BO6:BO106) -> 0 | BP108: =SUM(BP6:BP106) -> 0 | BQ108: =SUM(BQ6:BQ106) -> 0 | BW108: =SUM(BW6:BW106) -> 0 | BX108: =SUM(BX6:BX106) -> 0 | BY108: =SUM(BY6:BY106) -> 0 | CA108: =SUM(CA6:CA106) -> 0 | CB108: =SUM(CB6:CB106) -> 0 | CC108: =SUM(CC6:CC106) -> 0 | CF108: =SUM(CF6:CF106) -> 0 | CG108: =SUM(CG6:CG106) -> 0 | CH108: =SUM(CH6:CH106) -> 0 | CJ108: =SUM(CJ6:CJ106) -> 0 | CK108: =SUM(CK6:CK106) -> 0 | CL108: =SUM(CL6:CL106) -> 0 | DA108: =SUM(DA6:DA106) -> 0 | DB108: =SUM(DB6:DB106) -> 0 | DC108: =SUM(DC6:DC106) -> 0 | DD108: =SUM(DD6:DD106) -> 0 | DE108: =SUM(DE6:DE106) -> 0 | DF108: =SUM(DF6:DF106) -> 0 | DL108: =SUM(DL6:DL106) -> 0 | DM108: =SUM(DM6:DM106) -> 0 | DN108: =SUM(DN6:DN106) -> 0
A110: LGC | H110: =H108/$D$108 -> 0 | L110: =L108/$D$108 -> 0 | P110: =P108/$D$108 -> 0 | Z110: =Z108/$D$108 -> 0 | AF110: =AF108/$D$108 -> 0 | AJ110: =AJ108/$D$108 -> 0 | AU110: =AU108/$D$108 -> 0 | AY110: =AY108/$D$108 -> 0 | BM110: =BM108/$D$108 -> 0 | BQ110: =BQ108/$D$108 -> 0 | BY110: =BY108/$D$108 -> 0 | CC110: =CC108/$D$108 -> 0 | CH110: =CH108/$D$108 -> 0 | CL110: =CL108/$D$108 -> 0 | DC110: =DC108/$D$108 -> 0 | DF110: =DF108/$D$108 -> 0 | DN110: =DN108/$D$108 -> 0

Sheet Results_MF
A1: NFCSS Results for Reactor Type: | M1: All Rectors
A2: General | K2: Front End | AA2: Back End | BC2: Nuclide Groups
A3: Year | B3: TotalCapacity(MWe) | C3: Electricity(GWh) | D3: F2Share(%) | E3: Enri_1(%) | F3: Bu_1(GWd / t) | G3: Rep_1(%) | H3: Enri_2(%) | I3: Bu_2(GWd / t) | J3: Rep_2(%) | K3: NatU(tHM) | L3: ConversionUF6(tHM) | M3: ConversionUO2(tHM) | N3: ConversionUMet(tHM) | O3: ConversionTot(tHM) | P3: ENR_In(tHM) | Q3: SWU(MTSWU) | R3: Enr_DepU(tHM) | S3: ENR_U(tHM) | T3: FF_1(tHM) | U3: FF_2(tHM) | V3: TotalFF(tHM) | W3: FuelInCore(tHM) | X3: NatUSaveMOX(tHM) | Y3: NatUSaveRepU(tHM) | Z3: SFD1(tHM) | AA3: SFD2(tHM) | AB3: SFD(tHM) | AC3: SFS1(tHM) | AD3: SFS2(tHM) | AE3: SFS(tHM) | AF3: SFSStock1(tHM) | AG3: SFSStock2(tHM) | AH3: SFSStock(tHM) | AI3: SFRS1(tHM) | AJ3: SFRS2(tHM) | AK3: SFRS(tHM) | AL3: SFRSCP1(tHM) | AM3: SFRSCP2(tHM) | AN3: SFRSCP(tHM) | AO3: SFRSCPSto1(tHM) | AP3: SFRSCPSto2(tHM) | AQ3: SFRSCPStock(tHM) | AR3: SFRSRP1(tHM) | AS3: SFRSRP2(tHM) | AT3: SFRSRP(tHM) | AU3: SFRSRPSto1(tHM) | AV3: SFRSRPSto2(tHM) | AW3: SFRSRPStock(tHM) | AX3: SFR1(tHM) | AY3: SFR2(tHM) | AZ3: SFR(tHM) | BA3: DepU(tHM) | BB3: DepUUsed(tHM) | BC3: DepUAccu(tHM) | BD3: DepUStock(tHM) | BE3: RepU(tHM) | BF3: RepUUsed(tHM) | BG3: RepUAccu(tHM) | BH3: RepUStock(tHM) | BI3: RepPu(tHM) | BJ3: RepUUsedNatUEq(tHM) | BK3: RepPuUsed(tHM) | BL3: RepPuAccu(tHM) | BM3: RepPuStock(tHM) | BN3: RepMA(tHM) | BO3: RepMAUsed(tHM) | BP3: RepMAAccu(tHM) | BQ3: RepMAStock(tHM) | BR3: RepFP(t) | BS3: RepFPStock(t) | BT3: ILWVolume(m3) | BU3: ILWVolumeStock(m3) | BV3: HLWVolume(m3) | BW3: HLWVolumeStock(m3)
A4: 2025 | B4: 4600 | C4: 32236.8
A5: 2026 | B5: 4600 | C5: 32236.8
A6: 2027 | B6: 4600 | C6: 32236.8
A7: 2028 | B7: 4600 | C7: 32236.8
A8: 2029 | B8: 4600 | C8: 32236.8
A9: 2030 | B9: 4600 | C9: 32236.8
A10: 2031 | B10: 4600 | C10: 32236.8
A11: 2032 | B11: 4600 | C11: 32236.8
A12: 2033 | B12: 4600 | C12: 32236.8
A13: 2034 | B13: 4600 | C13: 32236.8
A14: 2035 | B14: 4600 | C14: 32236.8
A15: 2036 | B15: 4600 | C15: 32236.8
... A104: 2125 | B104: 2000 | C104: 14016
